BEGIN:VCALENDAR
VERSION:2.0
PRODID:-//Amana Academy West Atlanta - ECPv6.15.16//NONSGML v1.0//EN
CALSCALE:GREGORIAN
METHOD:PUBLISH
X-WR-CALNAME:Amana Academy West Atlanta
X-ORIGINAL-URL:https://amanaacademy.org/west-atlanta
X-WR-CALDESC:Events for Amana Academy West Atlanta
REFRESH-INTERVAL;VALUE=DURATION:PT1H
X-Robots-Tag:noindex
X-PUBLISHED-TTL:PT1H
BEGIN:VTIMEZONE
TZID:America/New_York
BEGIN:DAYLIGHT
TZOFFSETFROM:-0500
TZOFFSETTO:-0400
TZNAME:EDT
DTSTART:20220313T070000
END:DAYLIGHT
BEGIN:STANDARD
TZOFFSETFROM:-0400
TZOFFSETTO:-0500
TZNAME:EST
DTSTART:20221106T060000
END:STANDARD
BEGIN:DAYLIGHT
TZOFFSETFROM:-0500
TZOFFSETTO:-0400
TZNAME:EDT
DTSTART:20230312T070000
END:DAYLIGHT
BEGIN:STANDARD
TZOFFSETFROM:-0400
TZOFFSETTO:-0500
TZNAME:EST
DTSTART:20231105T060000
END:STANDARD
BEGIN:DAYLIGHT
TZOFFSETFROM:-0500
TZOFFSETTO:-0400
TZNAME:EDT
DTSTART:20240310T070000
END:DAYLIGHT
BEGIN:STANDARD
TZOFFSETFROM:-0400
TZOFFSETTO:-0500
TZNAME:EST
DTSTART:20241103T060000
END:STANDARD
BEGIN:DAYLIGHT
TZOFFSETFROM:-0500
TZOFFSETTO:-0400
TZNAME:EDT
DTSTART:20250309T070000
END:DAYLIGHT
BEGIN:STANDARD
TZOFFSETFROM:-0400
TZOFFSETTO:-0500
TZNAME:EST
DTSTART:20251102T060000
END:STANDARD
END:VTIMEZONE
BEGIN:VEVENT
DTSTART;TZID=America/New_York:20240116T100000
DTEND;TZID=America/New_York:20240116T110000
DTSTAMP:20260421T143532
CREATED:20240116T013914Z
LAST-MODIFIED:20240116T152445Z
UID:10000402-1705399200-1705402800@amanaacademy.org
SUMMARY:Academic Committee Meeting
DESCRIPTION:────────── \nHelené Brown is inviting you to a scheduled Zoom meeting. \nJoin Zoom Meetinghttps://amanaacademy-org.zoom.us/j/85268919256 \nMeeting ID: 852 6891 9256Passcode: 010218 \n— \nOne tap mobile+13092053325\,\,85268919256#\,\,\,\,*010218# US+13126266799\,\,85268919256#\,\,\,\,*010218# US (Chicago) \n— \nDial by your location• +1 309 205 3325 US• +1 312 626 6799 US (Chicago)• +1 646 558 8656 US (New York)• +1 646 931 3860 US• +1 301 715 8592 US (Washington DC)• +1 305 224 1968 US• +1 669 444 9171 US• +1 669 900 9128 US (San Jose)• +1 689 278 1000 US• +1 719 359 4580 US• +1 253 205 0468 US• +1 253 215 8782 US (Tacoma)• +1 346 248 7799 US (Houston)• +1 360 209 5623 US• +1 386 347 5053 US• +1 507 473 4847 US• +1 564 217 2000 US \nMeeting ID: 852 6891 9256Passcode: 010218 \nFind your local number: https://amanaacademy-org.zoom.us/u/keDqcTo6gj \n──────────
URL:https://amanaacademy.org/west-atlanta/event/academic-committee-meeting-28/
LOCATION:https://amanaacademy-org.zoom.us/j/85268919256
ORGANIZER;CN="hbrown@amanaacademy.org":MAILTO:hbrown@amanaacademy.org
END:VEVENT
BEGIN:VEVENT
DTSTART;TZID=America/New_York:20240116T100000
DTEND;TZID=America/New_York:20240116T110000
DTSTAMP:20260421T143532
CREATED:20231002T162530Z
LAST-MODIFIED:20240116T004122Z
UID:10000353-1705399200-1705402800@amanaacademy.org
SUMMARY:Academic Committee Meeting
DESCRIPTION:────────── \nHelené Brown is inviting you to a scheduled Zoom meeting. \nJoin Zoom Meetinghttps://amanaacademy-org.zoom.us/j/85268919256 \nMeeting ID: 852 6891 9256Passcode: 010218 \n— \nOne tap mobile+13092053325\,\,85268919256#\,\,\,\,*010218# US+13126266799\,\,85268919256#\,\,\,\,*010218# US (Chicago) \n— \nDial by your location• +1 309 205 3325 US• +1 312 626 6799 US (Chicago)• +1 646 558 8656 US (New York)• +1 646 931 3860 US• +1 301 715 8592 US (Washington DC)• +1 305 224 1968 US• +1 669 444 9171 US• +1 669 900 9128 US (San Jose)• +1 689 278 1000 US• +1 719 359 4580 US• +1 253 205 0468 US• +1 253 215 8782 US (Tacoma)• +1 346 248 7799 US (Houston)• +1 360 209 5623 US• +1 386 347 5053 US• +1 507 473 4847 US• +1 564 217 2000 US \nMeeting ID: 852 6891 9256Passcode: 010218 \nFind your local number: https://amanaacademy-org.zoom.us/u/keDqcTo6gj \n──────────
URL:https://amanaacademy.org/west-atlanta/event/academic-committee-meeting-4/
LOCATION:https://amanaacademy-org.zoom.us/j/85268919256
ORGANIZER;CN="hbrown@amanaacademy.org":MAILTO:hbrown@amanaacademy.org
END:VEVENT
BEGIN:VEVENT
DTSTART;TZID=America/New_York:20231219T100000
DTEND;TZID=America/New_York:20231219T110000
DTSTAMP:20260421T143532
CREATED:20231002T162529Z
LAST-MODIFIED:20231218T163951Z
UID:10000352-1702980000-1702983600@amanaacademy.org
SUMMARY:Academic Committee Meeting
DESCRIPTION:────────── \nHelené Brown is inviting you to a scheduled Zoom meeting. \nJoin Zoom Meetinghttps://amanaacademy-org.zoom.us/j/85268919256 \nMeeting ID: 852 6891 9256Passcode: 010218 \n— \nOne tap mobile+13092053325\,\,85268919256#\,\,\,\,*010218# US+13126266799\,\,85268919256#\,\,\,\,*010218# US (Chicago) \n— \nDial by your location• +1 309 205 3325 US• +1 312 626 6799 US (Chicago)• +1 646 558 8656 US (New York)• +1 646 931 3860 US• +1 301 715 8592 US (Washington DC)• +1 305 224 1968 US• +1 669 444 9171 US• +1 669 900 9128 US (San Jose)• +1 689 278 1000 US• +1 719 359 4580 US• +1 253 205 0468 US• +1 253 215 8782 US (Tacoma)• +1 346 248 7799 US (Houston)• +1 360 209 5623 US• +1 386 347 5053 US• +1 507 473 4847 US• +1 564 217 2000 US \nMeeting ID: 852 6891 9256Passcode: 010218 \nFind your local number: https://amanaacademy-org.zoom.us/u/keDqcTo6gj \n──────────
URL:https://amanaacademy.org/west-atlanta/event/academic-committee-meeting-3/
LOCATION:https://amanaacademy-org.zoom.us/j/85268919256
ORGANIZER;CN="hbrown@amanaacademy.org":MAILTO:hbrown@amanaacademy.org
END:VEVENT
BEGIN:VEVENT
DTSTART;TZID=America/New_York:20231121T100000
DTEND;TZID=America/New_York:20231121T110000
DTSTAMP:20260421T143532
CREATED:20231002T162529Z
LAST-MODIFIED:20231120T215615Z
UID:10000351-1700560800-1700564400@amanaacademy.org
SUMMARY:Academic Committee Meeting
DESCRIPTION:────────── \nHelené Brown is inviting you to a scheduled Zoom meeting. \nJoin Zoom Meetinghttps://amanaacademy-org.zoom.us/j/85268919256 \nMeeting ID: 852 6891 9256Passcode: 010218 \n— \nOne tap mobile+13092053325\,\,85268919256#\,\,\,\,*010218# US+13126266799\,\,85268919256#\,\,\,\,*010218# US (Chicago) \n— \nDial by your location• +1 309 205 3325 US• +1 312 626 6799 US (Chicago)• +1 646 558 8656 US (New York)• +1 646 931 3860 US• +1 301 715 8592 US (Washington DC)• +1 305 224 1968 US• +1 669 444 9171 US• +1 669 900 9128 US (San Jose)• +1 689 278 1000 US• +1 719 359 4580 US• +1 253 205 0468 US• +1 253 215 8782 US (Tacoma)• +1 346 248 7799 US (Houston)• +1 360 209 5623 US• +1 386 347 5053 US• +1 507 473 4847 US• +1 564 217 2000 US \nMeeting ID: 852 6891 9256Passcode: 010218 \nFind your local number: https://amanaacademy-org.zoom.us/u/keDqcTo6gj \n──────────
URL:https://amanaacademy.org/west-atlanta/event/academic-committee-meeting-2/
LOCATION:https://amanaacademy-org.zoom.us/j/85268919256
ORGANIZER;CN="hbrown@amanaacademy.org":MAILTO:hbrown@amanaacademy.org
END:VEVENT
BEGIN:VEVENT
DTSTART;TZID=America/New_York:20231017T100000
DTEND;TZID=America/New_York:20231017T110000
DTSTAMP:20260421T143532
CREATED:20231002T162529Z
LAST-MODIFIED:20231017T145417Z
UID:10000350-1697536800-1697540400@amanaacademy.org
SUMMARY:Academic Committee Meeting
DESCRIPTION:────────── \nHelené Brown is inviting you to a scheduled Zoom meeting. \nJoin Zoom Meetinghttps://amanaacademy-org.zoom.us/j/85268919256 \nMeeting ID: 852 6891 9256Passcode: 010218 \n— \nOne tap mobile+13092053325\,\,85268919256#\,\,\,\,*010218# US+13126266799\,\,85268919256#\,\,\,\,*010218# US (Chicago) \n— \nDial by your location• +1 309 205 3325 US• +1 312 626 6799 US (Chicago)• +1 646 558 8656 US (New York)• +1 646 931 3860 US• +1 301 715 8592 US (Washington DC)• +1 305 224 1968 US• +1 669 444 9171 US• +1 669 900 9128 US (San Jose)• +1 689 278 1000 US• +1 719 359 4580 US• +1 253 205 0468 US• +1 253 215 8782 US (Tacoma)• +1 346 248 7799 US (Houston)• +1 360 209 5623 US• +1 386 347 5053 US• +1 507 473 4847 US• +1 564 217 2000 US \nMeeting ID: 852 6891 9256Passcode: 010218 \nFind your local number: https://amanaacademy-org.zoom.us/u/keDqcTo6gj \n──────────
URL:https://amanaacademy.org/west-atlanta/event/academic-committee-meeting/
LOCATION:https://amanaacademy-org.zoom.us/j/85268919256
ORGANIZER;CN="hbrown@amanaacademy.org":MAILTO:hbrown@amanaacademy.org
END:VEVENT
END:VCALENDAR