BEGIN:VCALENDAR
VERSION:2.0
PRODID:-//Amana Academy West Atlanta - ECPv6.15.16//NONSGML v1.0//EN
CALSCALE:GREGORIAN
METHOD:PUBLISH
X-WR-CALNAME:Amana Academy West Atlanta
X-ORIGINAL-URL:https://amanaacademy.org/west-atlanta
X-WR-CALDESC:Events for Amana Academy West Atlanta
REFRESH-INTERVAL;VALUE=DURATION:PT1H
X-Robots-Tag:noindex
X-PUBLISHED-TTL:PT1H
BEGIN:VTIMEZONE
TZID:America/New_York
BEGIN:DAYLIGHT
TZOFFSETFROM:-0500
TZOFFSETTO:-0400
TZNAME:EDT
DTSTART:20220313T070000
END:DAYLIGHT
BEGIN:STANDARD
TZOFFSETFROM:-0400
TZOFFSETTO:-0500
TZNAME:EST
DTSTART:20221106T060000
END:STANDARD
BEGIN:DAYLIGHT
TZOFFSETFROM:-0500
TZOFFSETTO:-0400
TZNAME:EDT
DTSTART:20230312T070000
END:DAYLIGHT
BEGIN:STANDARD
TZOFFSETFROM:-0400
TZOFFSETTO:-0500
TZNAME:EST
DTSTART:20231105T060000
END:STANDARD
BEGIN:DAYLIGHT
TZOFFSETFROM:-0500
TZOFFSETTO:-0400
TZNAME:EDT
DTSTART:20240310T070000
END:DAYLIGHT
BEGIN:STANDARD
TZOFFSETFROM:-0400
TZOFFSETTO:-0500
TZNAME:EST
DTSTART:20241103T060000
END:STANDARD
END:VTIMEZONE
BEGIN:VEVENT
DTSTART;VALUE=DATE:20230912
DTEND;VALUE=DATE:20230913
DTSTAMP:20260419T093105
CREATED:20230827T183929Z
LAST-MODIFIED:20230910T045448Z
UID:10000293-1694476800-1694563199@amanaacademy.org
SUMMARY:Yearbook Pre-Sale Begins
DESCRIPTION:
URL:https://amanaacademy.org/west-atlanta/event/yearbook-pre-sale-begins/
ORGANIZER;CN="awfrontdesk@amanaacademy.org":MAILTO:awfrontdesk@amanaacademy.org
END:VEVENT
BEGIN:VEVENT
DTSTART;VALUE=DATE:20230911
DTEND;VALUE=DATE:20230923
DTSTAMP:20260419T093105
CREATED:20230827T183929Z
LAST-MODIFIED:20230922T231002Z
UID:10000292-1694390400-1695427199@amanaacademy.org
SUMMARY:Raise Craze
DESCRIPTION:
URL:https://amanaacademy.org/west-atlanta/event/raise-craze/
ORGANIZER;CN="awfrontdesk@amanaacademy.org":MAILTO:awfrontdesk@amanaacademy.org
END:VEVENT
BEGIN:VEVENT
DTSTART;VALUE=DATE:20230908
DTEND;VALUE=DATE:20230909
DTSTAMP:20260419T093105
CREATED:20230827T183929Z
LAST-MODIFIED:20230908T232433Z
UID:10000288-1694131200-1694217599@amanaacademy.org
SUMMARY:House Unveiling
DESCRIPTION:
URL:https://amanaacademy.org/west-atlanta/event/house-unveiling/
ORGANIZER;CN="awfrontdesk@amanaacademy.org":MAILTO:awfrontdesk@amanaacademy.org
END:VEVENT
BEGIN:VEVENT
DTSTART;VALUE=DATE:20230908
DTEND;VALUE=DATE:20230909
DTSTAMP:20260419T093105
CREATED:20230827T183929Z
LAST-MODIFIED:20230908T232433Z
UID:10000289-1694131200-1694217599@amanaacademy.org
SUMMARY:Campus Beautification
DESCRIPTION:
URL:https://amanaacademy.org/west-atlanta/event/campus-beautification/
ORGANIZER;CN="awfrontdesk@amanaacademy.org":MAILTO:awfrontdesk@amanaacademy.org
END:VEVENT
BEGIN:VEVENT
DTSTART;VALUE=DATE:20230907
DTEND;VALUE=DATE:20230908
DTSTAMP:20260419T093105
CREATED:20230827T183929Z
LAST-MODIFIED:20230907T235417Z
UID:10000290-1694044800-1694131199@amanaacademy.org
SUMMARY:Title 1 Annual Parent Meeting
DESCRIPTION:
URL:https://amanaacademy.org/west-atlanta/event/title-1-annual-parent-meeting/
ORGANIZER;CN="awfrontdesk@amanaacademy.org":MAILTO:awfrontdesk@amanaacademy.org
END:VEVENT
BEGIN:VEVENT
DTSTART;VALUE=DATE:20230904
DTEND;VALUE=DATE:20230905
DTSTAMP:20260419T093105
CREATED:20230827T183929Z
LAST-MODIFIED:20230904T235615Z
UID:10000287-1693785600-1693871999@amanaacademy.org
SUMMARY:Labor Day (No School)
DESCRIPTION:
URL:https://amanaacademy.org/west-atlanta/event/labor-day-no-school/
ORGANIZER;CN="awfrontdesk@amanaacademy.org":MAILTO:awfrontdesk@amanaacademy.org
END:VEVENT
BEGIN:VEVENT
DTSTART;VALUE=DATE:20230901
DTEND;VALUE=DATE:20230902
DTSTAMP:20260419T093105
CREATED:20230828T125650Z
LAST-MODIFIED:20230901T234123Z
UID:10000342-1693526400-1693612799@amanaacademy.org
SUMMARY:Joint Community Circle: The NED Show
DESCRIPTION:
URL:https://amanaacademy.org/west-atlanta/event/joint-community-circle-the-ned-show/
ORGANIZER;CN="awfrontdesk@amanaacademy.org":MAILTO:awfrontdesk@amanaacademy.org
END:VEVENT
BEGIN:VEVENT
DTSTART;TZID=America/New_York:20230831T170000
DTEND;TZID=America/New_York:20230831T180000
DTSTAMP:20260419T093105
CREATED:20230827T174220Z
LAST-MODIFIED:20230831T213948Z
UID:10000286-1693501200-1693504800@amanaacademy.org
SUMMARY:Curriculum Night
DESCRIPTION:
URL:https://amanaacademy.org/west-atlanta/event/curriculum-night-volunteer-orientation-2/
ORGANIZER;CN="awfrontdesk@amanaacademy.org":MAILTO:awfrontdesk@amanaacademy.org
END:VEVENT
END:VCALENDAR