BEGIN:VCALENDAR
VERSION:2.0
PRODID:-//Amana Academy West Atlanta - ECPv6.15.16//NONSGML v1.0//EN
CALSCALE:GREGORIAN
METHOD:PUBLISH
X-WR-CALNAME:Amana Academy West Atlanta
X-ORIGINAL-URL:https://amanaacademy.org/west-atlanta
X-WR-CALDESC:Events for Amana Academy West Atlanta
REFRESH-INTERVAL;VALUE=DURATION:PT1H
X-Robots-Tag:noindex
X-PUBLISHED-TTL:PT1H
BEGIN:VTIMEZONE
TZID:America/New_York
BEGIN:DAYLIGHT
TZOFFSETFROM:-0500
TZOFFSETTO:-0400
TZNAME:EDT
DTSTART:20220313T070000
END:DAYLIGHT
BEGIN:STANDARD
TZOFFSETFROM:-0400
TZOFFSETTO:-0500
TZNAME:EST
DTSTART:20221106T060000
END:STANDARD
BEGIN:DAYLIGHT
TZOFFSETFROM:-0500
TZOFFSETTO:-0400
TZNAME:EDT
DTSTART:20230312T070000
END:DAYLIGHT
BEGIN:STANDARD
TZOFFSETFROM:-0400
TZOFFSETTO:-0500
TZNAME:EST
DTSTART:20231105T060000
END:STANDARD
BEGIN:DAYLIGHT
TZOFFSETFROM:-0500
TZOFFSETTO:-0400
TZNAME:EDT
DTSTART:20240310T070000
END:DAYLIGHT
BEGIN:STANDARD
TZOFFSETFROM:-0400
TZOFFSETTO:-0500
TZNAME:EST
DTSTART:20241103T060000
END:STANDARD
END:VTIMEZONE
BEGIN:VEVENT
DTSTART;TZID=America/New_York:20230607T180000
DTEND;TZID=America/New_York:20230607T200000
DTSTAMP:20260420T214634
CREATED:20230531T233751Z
LAST-MODIFIED:20230607T231908Z
UID:10000280-1686160800-1686168000@amanaacademy.org
SUMMARY:Amana Academy Specially Called Board Meeting
DESCRIPTION:AGENDA: Executive Session for Amana Academy West Atlanta Tribunal Hearing \nRestricted Folder Access Here: Tribunal Files – Amana West – May\, 2023 \n────────── \nJoin Zoom Meetinghttps://amanaacademy-org.zoom.us/j/6786240989 \nMeeting ID: 678 624 0989One tap mobile+13052241968\,\,6786240989# US+13092053325\,\,6786240989# US \nDial by your location        +1 305 224 1968 US        +1 309 205 3325 US        +1 312 626 6799 US (Chicago)        +1 646 558 8656 US (New York)        +1 646 931 3860 US        +1 301 715 8592 US (Washington DC)        +1 253 205 0468 US        +1 253 215 8782 US (Tacoma)        +1 346 248 7799 US (Houston)        +1 360 209 5623 US        +1 386 347 5053 US        +1 507 473 4847 US        +1 564 217 2000 US        +1 669 444 9171 US        +1 669 900 9128 US (San Jose)        +1 689 278 1000 US        +1 719 359 4580 USMeeting ID: 678 624 0989Find your local number: https://amanaacademy-org.zoom.us/u/keA3l4FylP \n──────────
URL:https://amanaacademy.org/west-atlanta/event/amana-academy-specially-called-board-meeting/
LOCATION:https://amanaacademy-org.zoom.us/j/6786240989
ORGANIZER;CN="Ehab Jaleel":MAILTO:ejaleel@amanaacademy.org
END:VEVENT
END:VCALENDAR