BEGIN:VCALENDAR
VERSION:2.0
PRODID:-//Amana Academy - ECPv6.15.16//NONSGML v1.0//EN
CALSCALE:GREGORIAN
METHOD:PUBLISH
X-WR-CALNAME:Amana Academy
X-ORIGINAL-URL:https://amanaacademy.org
X-WR-CALDESC:Events for Amana Academy
REFRESH-INTERVAL;VALUE=DURATION:PT1H
X-Robots-Tag:noindex
X-PUBLISHED-TTL:PT1H
BEGIN:VTIMEZONE
TZID:America/New_York
BEGIN:DAYLIGHT
TZOFFSETFROM:-0500
TZOFFSETTO:-0400
TZNAME:EDT
DTSTART:20260308T070000
END:DAYLIGHT
BEGIN:STANDARD
TZOFFSETFROM:-0400
TZOFFSETTO:-0500
TZNAME:EST
DTSTART:20261101T060000
END:STANDARD
BEGIN:DAYLIGHT
TZOFFSETFROM:-0500
TZOFFSETTO:-0400
TZNAME:EDT
DTSTART:20270314T070000
END:DAYLIGHT
BEGIN:STANDARD
TZOFFSETFROM:-0400
TZOFFSETTO:-0500
TZNAME:EST
DTSTART:20271107T060000
END:STANDARD
BEGIN:DAYLIGHT
TZOFFSETFROM:-0500
TZOFFSETTO:-0400
TZNAME:EDT
DTSTART:20280312T070000
END:DAYLIGHT
BEGIN:STANDARD
TZOFFSETFROM:-0400
TZOFFSETTO:-0500
TZNAME:EST
DTSTART:20281105T060000
END:STANDARD
END:VTIMEZONE
BEGIN:VEVENT
DTSTART;TZID=America/New_York:20270602T080000
DTEND;TZID=America/New_York:20270602T085000
DTSTAMP:20260421T113307
CREATED:20250602T005543Z
LAST-MODIFIED:20250702T112545Z
UID:10001242-1811923200-1811926200@amanaacademy.org
SUMMARY:Breakfast w/ Bryson
DESCRIPTION:Formerly Breakfast with Bryson. Hosted by the PTO with a new format of focusing in on conversations and questions and dialogue with set grade bands of parents.
URL:https://amanaacademy.org/event/breakfast-w-bryson-79/
LOCATION:media center
END:VEVENT
BEGIN:VEVENT
DTSTART;TZID=America/New_York:20270602T080000
DTEND;TZID=America/New_York:20270602T085000
DTSTAMP:20260421T113307
CREATED:20250702T124046Z
LAST-MODIFIED:20250723T005648Z
UID:10001275-1811923200-1811926200@amanaacademy.org
SUMMARY:Breakfast w/ Bryson
DESCRIPTION:Formerly Breakfast with Bryson. Hosted by the PTO with a new format of focusing in on conversations and questions and dialogue with set grade bands of parents.
URL:https://amanaacademy.org/event/breakfast-w-bryson-103/
LOCATION:media center
END:VEVENT
BEGIN:VEVENT
DTSTART;TZID=America/New_York:20270707T080000
DTEND;TZID=America/New_York:20270707T085000
DTSTAMP:20260421T113307
CREATED:20250707T005548Z
LAST-MODIFIED:20250723T005650Z
UID:10001277-1814947200-1814950200@amanaacademy.org
SUMMARY:Breakfast w/ Bryson
DESCRIPTION:Formerly Breakfast with Bryson. Hosted by the PTO with a new format of focusing in on conversations and questions and dialogue with set grade bands of parents.
URL:https://amanaacademy.org/event/breakfast-w-bryson-104/
LOCATION:media center
END:VEVENT
END:VCALENDAR