BEGIN:VCALENDAR
VERSION:2.0
PRODID:-//Amana Academy - ECPv6.15.16//NONSGML v1.0//EN
CALSCALE:GREGORIAN
METHOD:PUBLISH
X-ORIGINAL-URL:https://amanaacademy.org
X-WR-CALDESC:Events for Amana Academy
REFRESH-INTERVAL;VALUE=DURATION:PT1H
X-Robots-Tag:noindex
X-PUBLISHED-TTL:PT1H
BEGIN:VTIMEZONE
TZID:America/New_York
BEGIN:DAYLIGHT
TZOFFSETFROM:-0500
TZOFFSETTO:-0400
TZNAME:EDT
DTSTART:20260308T070000
END:DAYLIGHT
BEGIN:STANDARD
TZOFFSETFROM:-0400
TZOFFSETTO:-0500
TZNAME:EST
DTSTART:20261101T060000
END:STANDARD
BEGIN:DAYLIGHT
TZOFFSETFROM:-0500
TZOFFSETTO:-0400
TZNAME:EDT
DTSTART:20270314T070000
END:DAYLIGHT
BEGIN:STANDARD
TZOFFSETFROM:-0400
TZOFFSETTO:-0500
TZNAME:EST
DTSTART:20271107T060000
END:STANDARD
BEGIN:DAYLIGHT
TZOFFSETFROM:-0500
TZOFFSETTO:-0400
TZNAME:EDT
DTSTART:20280312T070000
END:DAYLIGHT
BEGIN:STANDARD
TZOFFSETFROM:-0400
TZOFFSETTO:-0500
TZNAME:EST
DTSTART:20281105T060000
END:STANDARD
END:VTIMEZONE
BEGIN:VEVENT
DTSTART;TZID=America/New_York:20270203T080000
DTEND;TZID=America/New_York:20270203T085000
DTSTAMP:20260421T095805
CREATED:20250203T004100Z
LAST-MODIFIED:20250509T205553Z
UID:10000843-1801641600-1801644600@amanaacademy.org
SUMMARY:Breakfast w/ Bryson
DESCRIPTION:Formerly Breakfast with Bryson. Hosted by the PTO with a new format of focusing in on conversations and questions and dialogue with set grade bands of parents.
URL:https://amanaacademy.org/event/breakfast-w-bryson-51/
LOCATION:media center
END:VEVENT
BEGIN:VEVENT
DTSTART;TZID=America/New_York:20270203T080000
DTEND;TZID=America/New_York:20270203T085000
DTSTAMP:20260421T095805
CREATED:20250509T215644Z
LAST-MODIFIED:20250702T112538Z
UID:10001236-1801641600-1801644600@amanaacademy.org
SUMMARY:Breakfast w/ Bryson
DESCRIPTION:Formerly Breakfast with Bryson. Hosted by the PTO with a new format of focusing in on conversations and questions and dialogue with set grade bands of parents.
URL:https://amanaacademy.org/event/breakfast-w-bryson-75/
LOCATION:media center
END:VEVENT
BEGIN:VEVENT
DTSTART;TZID=America/New_York:20270203T080000
DTEND;TZID=America/New_York:20270203T085000
DTSTAMP:20260421T095805
CREATED:20250702T124038Z
LAST-MODIFIED:20250723T005639Z
UID:10001271-1801641600-1801644600@amanaacademy.org
SUMMARY:Breakfast w/ Bryson
DESCRIPTION:Formerly Breakfast with Bryson. Hosted by the PTO with a new format of focusing in on conversations and questions and dialogue with set grade bands of parents.
URL:https://amanaacademy.org/event/breakfast-w-bryson-99/
LOCATION:media center
END:VEVENT
BEGIN:VEVENT
DTSTART;TZID=America/New_York:20270303T080000
DTEND;TZID=America/New_York:20270303T085000
DTSTAMP:20260421T095805
CREATED:20250310T154240Z
LAST-MODIFIED:20250509T205555Z
UID:10001130-1804060800-1804063800@amanaacademy.org
SUMMARY:Breakfast w/ Bryson
DESCRIPTION:Formerly Breakfast with Bryson. Hosted by the PTO with a new format of focusing in on conversations and questions and dialogue with set grade bands of parents.
URL:https://amanaacademy.org/event/breakfast-w-bryson-52/
LOCATION:media center
END:VEVENT
BEGIN:VEVENT
DTSTART;TZID=America/New_York:20270303T080000
DTEND;TZID=America/New_York:20270303T085000
DTSTAMP:20260421T095805
CREATED:20250509T215645Z
LAST-MODIFIED:20250702T112540Z
UID:10001237-1804060800-1804063800@amanaacademy.org
SUMMARY:Breakfast w/ Bryson
DESCRIPTION:Formerly Breakfast with Bryson. Hosted by the PTO with a new format of focusing in on conversations and questions and dialogue with set grade bands of parents.
URL:https://amanaacademy.org/event/breakfast-w-bryson-76/
LOCATION:media center
END:VEVENT
BEGIN:VEVENT
DTSTART;TZID=America/New_York:20270303T080000
DTEND;TZID=America/New_York:20270303T085000
DTSTAMP:20260421T095805
CREATED:20250702T124040Z
LAST-MODIFIED:20250723T005641Z
UID:10001272-1804060800-1804063800@amanaacademy.org
SUMMARY:Breakfast w/ Bryson
DESCRIPTION:Formerly Breakfast with Bryson. Hosted by the PTO with a new format of focusing in on conversations and questions and dialogue with set grade bands of parents.
URL:https://amanaacademy.org/event/breakfast-w-bryson-100/
LOCATION:media center
END:VEVENT
BEGIN:VEVENT
DTSTART;TZID=America/New_York:20270407T080000
DTEND;TZID=America/New_York:20270407T085000
DTSTAMP:20260421T095805
CREATED:20250407T004156Z
LAST-MODIFIED:20250509T205557Z
UID:10001182-1807084800-1807087800@amanaacademy.org
SUMMARY:Breakfast w/ Bryson
DESCRIPTION:Formerly Breakfast with Bryson. Hosted by the PTO with a new format of focusing in on conversations and questions and dialogue with set grade bands of parents.
URL:https://amanaacademy.org/event/breakfast-w-bryson-53/
LOCATION:media center
END:VEVENT
BEGIN:VEVENT
DTSTART;TZID=America/New_York:20270407T080000
DTEND;TZID=America/New_York:20270407T085000
DTSTAMP:20260421T095805
CREATED:20250509T215647Z
LAST-MODIFIED:20250702T112542Z
UID:10001238-1807084800-1807087800@amanaacademy.org
SUMMARY:Breakfast w/ Bryson
DESCRIPTION:Formerly Breakfast with Bryson. Hosted by the PTO with a new format of focusing in on conversations and questions and dialogue with set grade bands of parents.
URL:https://amanaacademy.org/event/breakfast-w-bryson-77/
LOCATION:media center
END:VEVENT
BEGIN:VEVENT
DTSTART;TZID=America/New_York:20270407T080000
DTEND;TZID=America/New_York:20270407T085000
DTSTAMP:20260421T095805
CREATED:20250702T124042Z
LAST-MODIFIED:20250723T005643Z
UID:10001273-1807084800-1807087800@amanaacademy.org
SUMMARY:Breakfast w/ Bryson
DESCRIPTION:Formerly Breakfast with Bryson. Hosted by the PTO with a new format of focusing in on conversations and questions and dialogue with set grade bands of parents.
URL:https://amanaacademy.org/event/breakfast-w-bryson-101/
LOCATION:media center
END:VEVENT
BEGIN:VEVENT
DTSTART;TZID=America/New_York:20270505T080000
DTEND;TZID=America/New_York:20270505T085000
DTSTAMP:20260421T095805
CREATED:20250505T004133Z
LAST-MODIFIED:20250509T205559Z
UID:10001189-1809504000-1809507000@amanaacademy.org
SUMMARY:Breakfast w/ Bryson
DESCRIPTION:Formerly Breakfast with Bryson. Hosted by the PTO with a new format of focusing in on conversations and questions and dialogue with set grade bands of parents.
URL:https://amanaacademy.org/event/breakfast-w-bryson-54/
LOCATION:media center
END:VEVENT
BEGIN:VEVENT
DTSTART;TZID=America/New_York:20270505T080000
DTEND;TZID=America/New_York:20270505T085000
DTSTAMP:20260421T095805
CREATED:20250509T215649Z
LAST-MODIFIED:20250702T112543Z
UID:10001239-1809504000-1809507000@amanaacademy.org
SUMMARY:Breakfast w/ Bryson
DESCRIPTION:Formerly Breakfast with Bryson. Hosted by the PTO with a new format of focusing in on conversations and questions and dialogue with set grade bands of parents.
URL:https://amanaacademy.org/event/breakfast-w-bryson-78/
LOCATION:media center
END:VEVENT
BEGIN:VEVENT
DTSTART;TZID=America/New_York:20270505T080000
DTEND;TZID=America/New_York:20270505T085000
DTSTAMP:20260421T095805
CREATED:20250702T124044Z
LAST-MODIFIED:20250723T005645Z
UID:10001274-1809504000-1809507000@amanaacademy.org
SUMMARY:Breakfast w/ Bryson
DESCRIPTION:Formerly Breakfast with Bryson. Hosted by the PTO with a new format of focusing in on conversations and questions and dialogue with set grade bands of parents.
URL:https://amanaacademy.org/event/breakfast-w-bryson-102/
LOCATION:media center
END:VEVENT
BEGIN:VEVENT
DTSTART;TZID=America/New_York:20270602T080000
DTEND;TZID=America/New_York:20270602T085000
DTSTAMP:20260421T095805
CREATED:20250602T005543Z
LAST-MODIFIED:20250702T112545Z
UID:10001242-1811923200-1811926200@amanaacademy.org
SUMMARY:Breakfast w/ Bryson
DESCRIPTION:Formerly Breakfast with Bryson. Hosted by the PTO with a new format of focusing in on conversations and questions and dialogue with set grade bands of parents.
URL:https://amanaacademy.org/event/breakfast-w-bryson-79/
LOCATION:media center
END:VEVENT
BEGIN:VEVENT
DTSTART;TZID=America/New_York:20270602T080000
DTEND;TZID=America/New_York:20270602T085000
DTSTAMP:20260421T095805
CREATED:20250702T124046Z
LAST-MODIFIED:20250723T005648Z
UID:10001275-1811923200-1811926200@amanaacademy.org
SUMMARY:Breakfast w/ Bryson
DESCRIPTION:Formerly Breakfast with Bryson. Hosted by the PTO with a new format of focusing in on conversations and questions and dialogue with set grade bands of parents.
URL:https://amanaacademy.org/event/breakfast-w-bryson-103/
LOCATION:media center
END:VEVENT
BEGIN:VEVENT
DTSTART;TZID=America/New_York:20270707T080000
DTEND;TZID=America/New_York:20270707T085000
DTSTAMP:20260421T095805
CREATED:20250707T005548Z
LAST-MODIFIED:20250723T005650Z
UID:10001277-1814947200-1814950200@amanaacademy.org
SUMMARY:Breakfast w/ Bryson
DESCRIPTION:Formerly Breakfast with Bryson. Hosted by the PTO with a new format of focusing in on conversations and questions and dialogue with set grade bands of parents.
URL:https://amanaacademy.org/event/breakfast-w-bryson-104/
LOCATION:media center
END:VEVENT
END:VCALENDAR