BEGIN:VCALENDAR
VERSION:2.0
PRODID:-//Amana Academy - ECPv6.15.16//NONSGML v1.0//EN
CALSCALE:GREGORIAN
METHOD:PUBLISH
X-WR-CALNAME:Amana Academy
X-ORIGINAL-URL:https://amanaacademy.org
X-WR-CALDESC:Events for Amana Academy
REFRESH-INTERVAL;VALUE=DURATION:PT1H
X-Robots-Tag:noindex
X-PUBLISHED-TTL:PT1H
BEGIN:VTIMEZONE
TZID:America/New_York
BEGIN:DAYLIGHT
TZOFFSETFROM:-0500
TZOFFSETTO:-0400
TZNAME:EDT
DTSTART:20240310T070000
END:DAYLIGHT
BEGIN:STANDARD
TZOFFSETFROM:-0400
TZOFFSETTO:-0500
TZNAME:EST
DTSTART:20241103T060000
END:STANDARD
BEGIN:DAYLIGHT
TZOFFSETFROM:-0500
TZOFFSETTO:-0400
TZNAME:EDT
DTSTART:20250309T070000
END:DAYLIGHT
BEGIN:STANDARD
TZOFFSETFROM:-0400
TZOFFSETTO:-0500
TZNAME:EST
DTSTART:20251102T060000
END:STANDARD
BEGIN:DAYLIGHT
TZOFFSETFROM:-0500
TZOFFSETTO:-0400
TZNAME:EDT
DTSTART:20260308T070000
END:DAYLIGHT
BEGIN:STANDARD
TZOFFSETFROM:-0400
TZOFFSETTO:-0500
TZNAME:EST
DTSTART:20261101T060000
END:STANDARD
END:VTIMEZONE
BEGIN:VEVENT
DTSTART;TZID=America/New_York:20250318T173000
DTEND;TZID=America/New_York:20250318T183000
DTSTAMP:20260423T020215
CREATED:20250305T145603Z
LAST-MODIFIED:20250318T213957Z
UID:10001085-1742319000-1742322600@amanaacademy.org
SUMMARY:Amana Academy (Fulton) - State of School Address (virtual)
DESCRIPTION:Amana Academy PTO is inviting you to a scheduled Zoom meeting.  \n Join Zoom Meetinghttps://us06web.zoom.us/j/81632558316?pwd=jjIYZ4phxhYDbE4bz8eTASaQnxAmmg.1  \n Meeting ID: 816 3255 8316Passcode: 390621
URL:https://amanaacademy.org/event/amana-academy-fulton-state-of-school-address-virtual/
LOCATION:https://us06web.zoom.us/j/81632558316?pwd=jjIYZ4phxhYDbE4bz8eTASaQnxAmmg.1
END:VEVENT
END:VCALENDAR