BEGIN:VCALENDAR
VERSION:2.0
PRODID:-//Amana Academy - ECPv6.15.16//NONSGML v1.0//EN
CALSCALE:GREGORIAN
METHOD:PUBLISH
X-ORIGINAL-URL:https://amanaacademy.org
X-WR-CALDESC:Events for Amana Academy
REFRESH-INTERVAL;VALUE=DURATION:PT1H
X-Robots-Tag:noindex
X-PUBLISHED-TTL:PT1H
BEGIN:VTIMEZONE
TZID:America/New_York
BEGIN:DAYLIGHT
TZOFFSETFROM:-0500
TZOFFSETTO:-0400
TZNAME:EDT
DTSTART:20240310T070000
END:DAYLIGHT
BEGIN:STANDARD
TZOFFSETFROM:-0400
TZOFFSETTO:-0500
TZNAME:EST
DTSTART:20241103T060000
END:STANDARD
BEGIN:DAYLIGHT
TZOFFSETFROM:-0500
TZOFFSETTO:-0400
TZNAME:EDT
DTSTART:20250309T070000
END:DAYLIGHT
BEGIN:STANDARD
TZOFFSETFROM:-0400
TZOFFSETTO:-0500
TZNAME:EST
DTSTART:20251102T060000
END:STANDARD
BEGIN:DAYLIGHT
TZOFFSETFROM:-0500
TZOFFSETTO:-0400
TZNAME:EDT
DTSTART:20260308T070000
END:DAYLIGHT
BEGIN:STANDARD
TZOFFSETFROM:-0400
TZOFFSETTO:-0500
TZNAME:EST
DTSTART:20261101T060000
END:STANDARD
END:VTIMEZONE
BEGIN:VEVENT
DTSTART;TZID=America/New_York:20250714T110000
DTEND;TZID=America/New_York:20250714T120000
DTSTAMP:20260421T071300
CREATED:20250711T173951Z
LAST-MODIFIED:20250711T173951Z
UID:10001278-1752490800-1752494400@amanaacademy.org
SUMMARY:Academic Committee Kick-Off
DESCRIPTION:No prep needed. The focus will be on introductions and visioning for the year.  \n────────── \nEhab Jaleel is inviting you to a scheduled Zoom meeting.Join Zoom Meetinghttps://amanaacademy-org.zoom.us/j/6786240989?omn=89160017842 \nMeeting ID: 678 624 0989 \n— \nOne tap mobile+17193594580\,\,6786240989# US+12532158782\,\,6786240989# US (Tacoma) \n— \nDial by your location• +1 719 359 4580 US• +1 253 215 8782 US (Tacoma)• +1 346 248 7799 US (Houston)• +1 669 444 9171 US• +1 669 900 9128 US (San Jose)• +1 253 205 0468 US• +1 301 715 8592 US (Washington DC)• +1 305 224 1968 US• +1 309 205 3325 US• +1 312 626 6799 US (Chicago)• +1 360 209 5623 US• +1 386 347 5053 US• +1 507 473 4847 US• +1 564 217 2000 US• +1 646 558 8656 US (New York)• +1 646 931 3860 US• +1 689 278 1000 US \nMeeting ID: 678 624 0989 \nFind your local number: https://amanaacademy-org.zoom.us/u/keA3l4FylP \n──────────
URL:https://amanaacademy.org/event/academic-committee-kick-off-2/
LOCATION:https://amanaacademy-org.zoom.us/j/6786240989?omn=89160017842&jst=3
ORGANIZER;CN="ejaleel@amanaacademy.org":MAILTO:ejaleel@amanaacademy.org
END:VEVENT
BEGIN:VEVENT
DTSTART;TZID=America/New_York:20250714T110000
DTEND;TZID=America/New_York:20250714T120000
DTSTAMP:20260421T071301
CREATED:20250711T173950Z
LAST-MODIFIED:20250714T151009Z
UID:10001279-1752490800-1752494400@amanaacademy.org
SUMMARY:Academic Committee Kick-Off
DESCRIPTION:No prep needed. The focus will be on introductions and visioning for the year.  \n────────── \nEhab Jaleel is inviting you to a scheduled Zoom meeting.Join Zoom Meetinghttps://amanaacademy-org.zoom.us/j/6786240989?omn=89160017842 \nMeeting ID: 678 624 0989 \n— \nOne tap mobile+17193594580\,\,6786240989# US+12532158782\,\,6786240989# US (Tacoma) \n— \nDial by your location• +1 719 359 4580 US• +1 253 215 8782 US (Tacoma)• +1 346 248 7799 US (Houston)• +1 669 444 9171 US• +1 669 900 9128 US (San Jose)• +1 253 205 0468 US• +1 301 715 8592 US (Washington DC)• +1 305 224 1968 US• +1 309 205 3325 US• +1 312 626 6799 US (Chicago)• +1 360 209 5623 US• +1 386 347 5053 US• +1 507 473 4847 US• +1 564 217 2000 US• +1 646 558 8656 US (New York)• +1 646 931 3860 US• +1 689 278 1000 US \nMeeting ID: 678 624 0989 \nFind your local number: https://amanaacademy-org.zoom.us/u/keA3l4FylP \n──────────
URL:https://amanaacademy.org/event/academic-committee-kick-off/
LOCATION:https://amanaacademy-org.zoom.us/j/6786240989?omn=89160017842&jst=3
ORGANIZER;CN="ejaleel@amanaacademy.org":MAILTO:ejaleel@amanaacademy.org
END:VEVENT
END:VCALENDAR