BEGIN:VCALENDAR
VERSION:2.0
PRODID:-//Amana Academy - ECPv6.15.16//NONSGML v1.0//EN
CALSCALE:GREGORIAN
METHOD:PUBLISH
X-WR-CALNAME:Amana Academy
X-ORIGINAL-URL:https://amanaacademy.org
X-WR-CALDESC:Events for Amana Academy
REFRESH-INTERVAL;VALUE=DURATION:PT1H
X-Robots-Tag:noindex
X-PUBLISHED-TTL:PT1H
BEGIN:VTIMEZONE
TZID:America/New_York
BEGIN:DAYLIGHT
TZOFFSETFROM:-0500
TZOFFSETTO:-0400
TZNAME:EDT
DTSTART:20240310T070000
END:DAYLIGHT
BEGIN:STANDARD
TZOFFSETFROM:-0400
TZOFFSETTO:-0500
TZNAME:EST
DTSTART:20241103T060000
END:STANDARD
BEGIN:DAYLIGHT
TZOFFSETFROM:-0500
TZOFFSETTO:-0400
TZNAME:EDT
DTSTART:20250309T070000
END:DAYLIGHT
BEGIN:STANDARD
TZOFFSETFROM:-0400
TZOFFSETTO:-0500
TZNAME:EST
DTSTART:20251102T060000
END:STANDARD
BEGIN:DAYLIGHT
TZOFFSETFROM:-0500
TZOFFSETTO:-0400
TZNAME:EDT
DTSTART:20260308T070000
END:DAYLIGHT
BEGIN:STANDARD
TZOFFSETFROM:-0400
TZOFFSETTO:-0500
TZNAME:EST
DTSTART:20261101T060000
END:STANDARD
END:VTIMEZONE
BEGIN:VEVENT
DTSTART;TZID=America/New_York:20250430T123000
DTEND;TZID=America/New_York:20250430T133000
DTSTAMP:20260425T071731
CREATED:20250430T165452Z
LAST-MODIFIED:20250430T165455Z
UID:10001188-1746016200-1746019800@amanaacademy.org
SUMMARY:SNP Menu Advisory Board Meeting
DESCRIPTION:────────── \nNema Jackson Roberts is inviting you to a scheduled Zoom meeting.Join Zoom Meetinghttps://amanaacademy-org.zoom.us/j/3227242115?pwd=S1AxYWRIWmEvVWlKS3NqUVZwbnFNZz09&omn=83841530177 \nMeeting ID: 322 724 2115Passcode: Amana \n— \nOne tap mobile+13052241968\,\,3227242115# US+13092053325\,\,3227242115# US \n— \nDial by your location• +1 305 224 1968 US• +1 309 205 3325 US• +1 312 626 6799 US (Chicago)• +1 646 558 8656 US (New York)• +1 646 931 3860 US• +1 301 715 8592 US (Washington DC)• +1 346 248 7799 US (Houston)• +1 360 209 5623 US• +1 386 347 5053 US• +1 507 473 4847 US• +1 564 217 2000 US• +1 669 444 9171 US• +1 669 900 9128 US (San Jose)• +1 689 278 1000 US• +1 719 359 4580 US• +1 253 205 0468 US• +1 253 215 8782 US (Tacoma) \nMeeting ID: 322 724 2115 \nFind your local number: https://amanaacademy-org.zoom.us/u/kbuLwkiLfV \n──────────
URL:https://amanaacademy.org/event/snp-menu-advisory-board-meeting/
LOCATION:https://amanaacademy-org.zoom.us/j/3227242115?pwd=S1AxYWRIWmEvVWlKS3NqUVZwbnFNZz09&omn=83841530177&jst=3
ORGANIZER;CN="njackson@amanaacademy.org":MAILTO:njackson@amanaacademy.org
END:VEVENT
END:VCALENDAR