BEGIN:VCALENDAR
VERSION:2.0
PRODID:-//Amana Academy - ECPv6.15.16//NONSGML v1.0//EN
CALSCALE:GREGORIAN
METHOD:PUBLISH
X-WR-CALNAME:Amana Academy
X-ORIGINAL-URL:https://amanaacademy.org
X-WR-CALDESC:Events for Amana Academy
REFRESH-INTERVAL;VALUE=DURATION:PT1H
X-Robots-Tag:noindex
X-PUBLISHED-TTL:PT1H
BEGIN:VTIMEZONE
TZID:America/New_York
BEGIN:DAYLIGHT
TZOFFSETFROM:-0500
TZOFFSETTO:-0400
TZNAME:EDT
DTSTART:20260308T070000
END:DAYLIGHT
BEGIN:STANDARD
TZOFFSETFROM:-0400
TZOFFSETTO:-0500
TZNAME:EST
DTSTART:20261101T060000
END:STANDARD
BEGIN:DAYLIGHT
TZOFFSETFROM:-0500
TZOFFSETTO:-0400
TZNAME:EDT
DTSTART:20270314T070000
END:DAYLIGHT
BEGIN:STANDARD
TZOFFSETFROM:-0400
TZOFFSETTO:-0500
TZNAME:EST
DTSTART:20271107T060000
END:STANDARD
BEGIN:DAYLIGHT
TZOFFSETFROM:-0500
TZOFFSETTO:-0400
TZNAME:EDT
DTSTART:20280312T070000
END:DAYLIGHT
BEGIN:STANDARD
TZOFFSETFROM:-0400
TZOFFSETTO:-0500
TZNAME:EST
DTSTART:20281105T060000
END:STANDARD
BEGIN:DAYLIGHT
TZOFFSETFROM:-0500
TZOFFSETTO:-0400
TZNAME:EDT
DTSTART:20290311T070000
END:DAYLIGHT
BEGIN:STANDARD
TZOFFSETFROM:-0400
TZOFFSETTO:-0500
TZNAME:EST
DTSTART:20291104T060000
END:STANDARD
END:VTIMEZONE
BEGIN:VEVENT
DTSTART;TZID=America/New_York:20270401T073000
DTEND;TZID=America/New_York:20270401T080000
DTSTAMP:20260421T084231
CREATED:20250810T224242Z
LAST-MODIFIED:20260421T124124Z
UID:10001625-1806564600-1806566400@amanaacademy.org
SUMMARY:Discussion Café for Arabic Language & Culture
DESCRIPTION:
URL:https://amanaacademy.org/event/discussion-cafe-for-arabic-language-culture-20/
LOCATION:Cafe
END:VEVENT
BEGIN:VEVENT
DTSTART;TZID=America/New_York:20270506T073000
DTEND;TZID=America/New_York:20270506T080000
DTSTAMP:20260421T084231
CREATED:20250810T224243Z
LAST-MODIFIED:20260421T124124Z
UID:10001626-1809588600-1809590400@amanaacademy.org
SUMMARY:Discussion Café for Arabic Language & Culture
DESCRIPTION:
URL:https://amanaacademy.org/event/discussion-cafe-for-arabic-language-culture-21/
LOCATION:Cafe
END:VEVENT
BEGIN:VEVENT
DTSTART;TZID=America/New_York:20270603T073000
DTEND;TZID=America/New_York:20270603T080000
DTSTAMP:20260421T084231
CREATED:20250810T224244Z
LAST-MODIFIED:20260421T124100Z
UID:10001627-1812007800-1812009600@amanaacademy.org
SUMMARY:Discussion Café for Arabic Language & Culture
DESCRIPTION:
URL:https://amanaacademy.org/event/discussion-cafe-for-arabic-language-culture-22/
LOCATION:Cafe
END:VEVENT
BEGIN:VEVENT
DTSTART;TZID=America/New_York:20270701T073000
DTEND;TZID=America/New_York:20270701T080000
DTSTAMP:20260421T084231
CREATED:20250810T224245Z
LAST-MODIFIED:20260421T124103Z
UID:10001628-1814427000-1814428800@amanaacademy.org
SUMMARY:Discussion Café for Arabic Language & Culture
DESCRIPTION:
URL:https://amanaacademy.org/event/discussion-cafe-for-arabic-language-culture-23/
LOCATION:Cafe
END:VEVENT
BEGIN:VEVENT
DTSTART;TZID=America/New_York:20270805T073000
DTEND;TZID=America/New_York:20270805T080000
DTSTAMP:20260421T084231
CREATED:20250810T224246Z
LAST-MODIFIED:20260421T124105Z
UID:10001629-1817451000-1817452800@amanaacademy.org
SUMMARY:Discussion Café for Arabic Language & Culture
DESCRIPTION:
URL:https://amanaacademy.org/event/discussion-cafe-for-arabic-language-culture-24/
LOCATION:Cafe
END:VEVENT
BEGIN:VEVENT
DTSTART;TZID=America/New_York:20270902T073000
DTEND;TZID=America/New_York:20270902T080000
DTSTAMP:20260421T084231
CREATED:20250902T002725Z
LAST-MODIFIED:20260421T124108Z
UID:10001704-1819870200-1819872000@amanaacademy.org
SUMMARY:Discussion Café for Arabic Language & Culture
DESCRIPTION:
URL:https://amanaacademy.org/event/discussion-cafe-for-arabic-language-culture-25/
LOCATION:Cafe
END:VEVENT
BEGIN:VEVENT
DTSTART;TZID=America/New_York:20271007T073000
DTEND;TZID=America/New_York:20271007T080000
DTSTAMP:20260421T084231
CREATED:20251007T011239Z
LAST-MODIFIED:20260421T124111Z
UID:10001736-1822894200-1822896000@amanaacademy.org
SUMMARY:Discussion Café for Arabic Language & Culture
DESCRIPTION:
URL:https://amanaacademy.org/event/discussion-cafe-for-arabic-language-culture-26/
LOCATION:Cafe
END:VEVENT
BEGIN:VEVENT
DTSTART;TZID=America/New_York:20271104T073000
DTEND;TZID=America/New_York:20271104T080000
DTSTAMP:20260421T084231
CREATED:20251104T004247Z
LAST-MODIFIED:20260421T124113Z
UID:10001774-1825313400-1825315200@amanaacademy.org
SUMMARY:Discussion Café for Arabic Language & Culture
DESCRIPTION:
URL:https://amanaacademy.org/event/discussion-cafe-for-arabic-language-culture-27/
LOCATION:Cafe
END:VEVENT
BEGIN:VEVENT
DTSTART;TZID=America/New_York:20271202T073000
DTEND;TZID=America/New_York:20271202T080000
DTSTAMP:20260421T084231
CREATED:20251202T002804Z
LAST-MODIFIED:20260421T124115Z
UID:10001817-1827732600-1827734400@amanaacademy.org
SUMMARY:Discussion Café for Arabic Language & Culture
DESCRIPTION:
URL:https://amanaacademy.org/event/discussion-cafe-for-arabic-language-culture-28/
LOCATION:Cafe
END:VEVENT
BEGIN:VEVENT
DTSTART;TZID=America/New_York:20280106T073000
DTEND;TZID=America/New_York:20280106T080000
DTSTAMP:20260421T084231
CREATED:20260106T001241Z
LAST-MODIFIED:20260421T124118Z
UID:10001832-1830756600-1830758400@amanaacademy.org
SUMMARY:Discussion Café for Arabic Language & Culture
DESCRIPTION:
URL:https://amanaacademy.org/event/discussion-cafe-for-arabic-language-culture-29/
LOCATION:Cafe
END:VEVENT
BEGIN:VEVENT
DTSTART;TZID=America/New_York:20280203T073000
DTEND;TZID=America/New_York:20280203T080000
DTSTAMP:20260421T084231
CREATED:20260203T011159Z
LAST-MODIFIED:20260421T124120Z
UID:10001857-1833175800-1833177600@amanaacademy.org
SUMMARY:Discussion Café for Arabic Language & Culture
DESCRIPTION:
URL:https://amanaacademy.org/event/discussion-cafe-for-arabic-language-culture-30/
LOCATION:Cafe
END:VEVENT
BEGIN:VEVENT
DTSTART;TZID=America/New_York:20280302T073000
DTEND;TZID=America/New_York:20280302T080000
DTSTAMP:20260421T084231
CREATED:20260302T011150Z
LAST-MODIFIED:20260421T124123Z
UID:10001867-1835595000-1835596800@amanaacademy.org
SUMMARY:Discussion Café for Arabic Language & Culture
DESCRIPTION:
URL:https://amanaacademy.org/event/discussion-cafe-for-arabic-language-culture-31/
LOCATION:Cafe
END:VEVENT
BEGIN:VEVENT
DTSTART;TZID=America/New_York:20280406T073000
DTEND;TZID=America/New_York:20280406T080000
DTSTAMP:20260421T084231
CREATED:20260406T001102Z
LAST-MODIFIED:20260421T124125Z
UID:10001878-1838619000-1838620800@amanaacademy.org
SUMMARY:Discussion Café for Arabic Language & Culture
DESCRIPTION:
URL:https://amanaacademy.org/event/discussion-cafe-for-arabic-language-culture-32/
LOCATION:Cafe
END:VEVENT
END:VCALENDAR