BEGIN:VCALENDAR
VERSION:2.0
PRODID:-//Amana Academy North Fulton - ECPv6.15.16//NONSGML v1.0//EN
CALSCALE:GREGORIAN
METHOD:PUBLISH
X-WR-CALNAME:Amana Academy North Fulton
X-ORIGINAL-URL:https://amanaacademy.org/north-fulton
X-WR-CALDESC:Events for Amana Academy North Fulton
REFRESH-INTERVAL;VALUE=DURATION:PT1H
X-Robots-Tag:noindex
X-PUBLISHED-TTL:PT1H
BEGIN:VTIMEZONE
TZID:America/New_York
BEGIN:DAYLIGHT
TZOFFSETFROM:-0500
TZOFFSETTO:-0400
TZNAME:EDT
DTSTART:20220313T070000
END:DAYLIGHT
BEGIN:STANDARD
TZOFFSETFROM:-0400
TZOFFSETTO:-0500
TZNAME:EST
DTSTART:20221106T060000
END:STANDARD
BEGIN:DAYLIGHT
TZOFFSETFROM:-0500
TZOFFSETTO:-0400
TZNAME:EDT
DTSTART:20230312T070000
END:DAYLIGHT
BEGIN:STANDARD
TZOFFSETFROM:-0400
TZOFFSETTO:-0500
TZNAME:EST
DTSTART:20231105T060000
END:STANDARD
BEGIN:DAYLIGHT
TZOFFSETFROM:-0500
TZOFFSETTO:-0400
TZNAME:EDT
DTSTART:20240310T070000
END:DAYLIGHT
BEGIN:STANDARD
TZOFFSETFROM:-0400
TZOFFSETTO:-0500
TZNAME:EST
DTSTART:20241103T060000
END:STANDARD
BEGIN:DAYLIGHT
TZOFFSETFROM:-0500
TZOFFSETTO:-0400
TZNAME:EDT
DTSTART:20250309T070000
END:DAYLIGHT
BEGIN:STANDARD
TZOFFSETFROM:-0400
TZOFFSETTO:-0500
TZNAME:EST
DTSTART:20251102T060000
END:STANDARD
END:VTIMEZONE
BEGIN:VEVENT
DTSTART;TZID=America/New_York:20240530T180000
DTEND;TZID=America/New_York:20240530T193000
DTSTAMP:20260420T102824
CREATED:20230919T154232Z
LAST-MODIFIED:20240530T225847Z
UID:10000979-1717092000-1717097400@amanaacademy.org
SUMMARY:Amana May Board Meeting
DESCRIPTION:This meeting will be in-person with an option for virtual participation (a.k.a. hybrid format). \nBoard members can access packets via their Amana user account here: https://drive.google.com/drive/folders/16UaYw4uwW6a6beljFSy0VKrAJFe7jOBt?usp=sharing \nJoin with Google Meet: https://meet.google.com/cym-srix-xfv\nOr dial: (US) +1 225-361-8547 PIN: 623762296#\nLearn more about Meet at: https://support.google.com/a/users/answer/9282720
URL:https://amanaacademy.org/north-fulton/event/amana-may-board-meeting-2/
LOCATION:https://meet.google.com/cym-srix-xfv Or dial: ‪(US) +1 225-361-8547‬ PIN: ‪623 762 296‬#
ORGANIZER;CN="Ehab Jaleel":MAILTO:ejaleel@amanaacademy.org
END:VEVENT
BEGIN:VEVENT
DTSTART;TZID=America/New_York:20240425T180000
DTEND;TZID=America/New_York:20240425T193000
DTSTAMP:20260420T102824
CREATED:20230919T154232Z
LAST-MODIFIED:20240425T232734Z
UID:10000978-1714068000-1714073400@amanaacademy.org
SUMMARY:Amana April Board Meeting
DESCRIPTION:This meeting will be in-person with an option for virtual participation (a.k.a. hybrid format). \nBoard members can access packets via their Amana user account here: https://drive.google.com/drive/folders/16UaYw4uwW6a6beljFSy0VKrAJFe7jOBt?usp=sharing \n \n \nJoin Zoom Meeting\nhttps://amanaacademy-org.zoom.us/j/6786240989?omn=84830926562 (ID: 6786240989)\nJoin by phone\n(US) +1 564-217-2000\nJoining instructions: https://www.google.com/url?q=https://applications.zoom.us/addon/invitation/detail?meetingUuid%3DGhibpOB0Q7yHNY5L3pHM4Q%253D%253D%26signature%3Dc32934fe5cd494cbfb289833586d5298ef9b7e0a5e89574f1370a8f24d9a463d%26v%3D1&sa=D&source=calendar&usg=AOvVaw0t4-kV-f1HhqtoNW3cDMm4\nMeeting host: ejaleel@amanaacademy.org \nJoin Zoom Meeting: https://amanaacademy-org.zoom.us/j/6786240989?omn=84830926562
URL:https://amanaacademy.org/north-fulton/event/amana-april-board-meeting-2/
LOCATION:https://meet.google.com/cym-srix-xfv Or dial: ‪(US) +1 225-361-8547‬ PIN: ‪623 762 296‬#
ORGANIZER;CN="Ehab Jaleel":MAILTO:ejaleel@amanaacademy.org
END:VEVENT
BEGIN:VEVENT
DTSTART;TZID=America/New_York:20240328T180000
DTEND;TZID=America/New_York:20240328T193000
DTSTAMP:20260420T102824
CREATED:20230919T154232Z
LAST-MODIFIED:20240328T232736Z
UID:10000977-1711648800-1711654200@amanaacademy.org
SUMMARY:Amana March Board Meeting
DESCRIPTION:Board members can access packets via their Amana user account here: https://drive.google.com/drive/folders/16UaYw4uwW6a6beljFSy0VKrAJFe7jOBt?usp=sharing \n \n \n────────── \nEhab Jaleel is inviting you to a scheduled Zoom meeting. \nJoin Zoom Meetinghttps://amanaacademy-org.zoom.us/j/6786240989 \nMeeting ID: 678 624 0989 \n— \nOne tap mobile+13052241968\,\,6786240989# US+13092053325\,\,6786240989# US \n— \nDial by your location• +1 305 224 1968 US• +1 309 205 3325 US• +1 312 626 6799 US (Chicago)• +1 646 558 8656 US (New York)• +1 646 931 3860 US• +1 301 715 8592 US (Washington DC)• +1 253 205 0468 US• +1 253 215 8782 US (Tacoma)• +1 346 248 7799 US (Houston)• +1 360 209 5623 US• +1 386 347 5053 US• +1 507 473 4847 US• +1 564 217 2000 US• +1 669 444 9171 US• +1 669 900 9128 US (San Jose)• +1 689 278 1000 US• +1 719 359 4580 US \nMeeting ID: 678 624 0989 \nFind your local number: https://amanaacademy-org.zoom.us/u/keA3l4FylP \n──────────
URL:https://amanaacademy.org/north-fulton/event/amana-march-board-meeting-2/
LOCATION:https://meet.google.com/cym-srix-xfv Or dial: ‪(US) +1 225-361-8547‬ PIN: ‪623 762 296‬#
ORGANIZER;CN="Ehab Jaleel":MAILTO:ejaleel@amanaacademy.org
END:VEVENT
BEGIN:VEVENT
DTSTART;TZID=America/New_York:20240229T180000
DTEND;TZID=America/New_York:20240229T193000
DTSTAMP:20260420T102824
CREATED:20230919T154232Z
LAST-MODIFIED:20240229T234258Z
UID:10000976-1709229600-1709235000@amanaacademy.org
SUMMARY:Amana February Board Meeting
DESCRIPTION:Board members can access packets via their Amana user account here: https://drive.google.com/drive/folders/16UaYw4uwW6a6beljFSy0VKrAJFe7jOBt?usp=sharing \n \n─────── \nJoin Zoom Meeting\nhttps://amanaacademy-org.zoom.us/j/6786240989?omn=83467893507 (ID: 6786240989)\nJoin by phone\n(US) +1 564-217-2000\nJoining instructions: https://www.google.com/url?q=https://applications.zoom.us/addon/invitation/detail?meetingUuid%3DL99Ww3QdRm2%252B0IOoWjy2og%253D%253D%26signature%3D1a595ebac73390015cfa19d7778b364da914069ae8863ba17839cddec8aa2eee%26v%3D1&sa=D&source=calendar&usg=AOvVaw0Uqdl_8uG2gfhE5ErkSsC3\nMeeting host: ejaleel@amanaacademy.org \nJoin Zoom Meeting: https://amanaacademy-org.zoom.us/j/6786240989?omn=83467893507
URL:https://amanaacademy.org/north-fulton/event/amana-february-board-meeting-2/
LOCATION:https://meet.google.com/cym-srix-xfv Or dial: ‪(US) +1 225-361-8547‬ PIN: ‪623 762 296‬#
ORGANIZER;CN="Ehab Jaleel":MAILTO:ejaleel@amanaacademy.org
END:VEVENT
BEGIN:VEVENT
DTSTART;TZID=America/New_York:20230928T180000
DTEND;TZID=America/New_York:20230928T193000
DTSTAMP:20260420T102824
CREATED:20230919T154231Z
LAST-MODIFIED:20230928T224233Z
UID:10000973-1695924000-1695929400@amanaacademy.org
SUMMARY:Amana September Board Meeting
DESCRIPTION:Board members can access packets via their Amana user account here: https://drive.google.com/drive/folders/16UaYw4uwW6a6beljFSy0VKrAJFe7jOBt?usp=sharing \n────────── \nEhab Jaleel is inviting you to a scheduled Zoom meeting. \nJoin Zoom Meetinghttps://amanaacademy-org.zoom.us/j/6786240989 \nMeeting ID: 678 624 0989 \n— \nOne tap mobile+13052241968\,\,6786240989# US+13092053325\,\,6786240989# US \n— \nDial by your location• +1 305 224 1968 US• +1 309 205 3325 US• +1 312 626 6799 US (Chicago)• +1 646 558 8656 US (New York)• +1 646 931 3860 US• +1 301 715 8592 US (Washington DC)• +1 253 205 0468 US• +1 253 215 8782 US (Tacoma)• +1 346 248 7799 US (Houston)• +1 360 209 5623 US• +1 386 347 5053 US• +1 507 473 4847 US• +1 564 217 2000 US• +1 669 444 9171 US• +1 669 900 9128 US (San Jose)• +1 689 278 1000 US• +1 719 359 4580 US \nMeeting ID: 678 624 0989 \nFind your local number: https://amanaacademy-org.zoom.us/u/keA3l4FylP \n──────────
URL:https://amanaacademy.org/north-fulton/event/amana-september-board-meeting/
LOCATION:https://meet.google.com/cym-srix-xfv Or dial: ‪(US) +1 225-361-8547‬ PIN: ‪623 762 296‬#
ORGANIZER;CN="Ehab Jaleel":MAILTO:ejaleel@amanaacademy.org
END:VEVENT
BEGIN:VEVENT
DTSTART;TZID=America/New_York:20230914T180000
DTEND;TZID=America/New_York:20230914T193000
DTSTAMP:20260420T102824
CREATED:20230828T014337Z
LAST-MODIFIED:20230914T231231Z
UID:10000972-1694714400-1694719800@amanaacademy.org
SUMMARY:Amana Specially Called Board Meeting
DESCRIPTION:Board members can access packets via their Amana user account here: https://drive.google.com/drive/folders/16UaYw4uwW6a6beljFSy0VKrAJFe7jOBt?usp=sharing────────── \nJoin Zoom Meetinghttps://amanaacademy-org.zoom.us/j/6786240989 \nMeeting ID: 678 624 0989 \n— \nOne tap mobile+13052241968\,\,6786240989# US+13092053325\,\,6786240989# US \n— \nDial by your location• +1 305 224 1968 US• +1 309 205 3325 US• +1 312 626 6799 US (Chicago)• +1 646 558 8656 US (New York)• +1 646 931 3860 US• +1 301 715 8592 US (Washington DC)• +1 253 205 0468 US• +1 253 215 8782 US (Tacoma)• +1 346 248 7799 US (Houston)• +1 360 209 5623 US• +1 386 347 5053 US• +1 507 473 4847 US• +1 564 217 2000 US• +1 669 444 9171 US• +1 669 900 9128 US (San Jose)• +1 689 278 1000 US• +1 719 359 4580 US \nMeeting ID: 678 624 0989 \nFind your local number: https://amanaacademy-org.zoom.us/u/keA3l4FylP \n──────────
URL:https://amanaacademy.org/north-fulton/event/amana-specially-called-board-meeting-2/
LOCATION:https://meet.google.com/cym-srix-xfv Or dial: ‪(US) +1 225-361-8547‬ PIN: ‪623 762 296‬#
ORGANIZER;CN="Ehab Jaleel":MAILTO:ejaleel@amanaacademy.org
END:VEVENT
END:VCALENDAR