BEGIN:VCALENDAR
VERSION:2.0
PRODID:-//Amana Academy North Fulton - ECPv6.15.16//NONSGML v1.0//EN
CALSCALE:GREGORIAN
METHOD:PUBLISH
X-WR-CALNAME:Amana Academy North Fulton
X-ORIGINAL-URL:https://amanaacademy.org/north-fulton
X-WR-CALDESC:Events for Amana Academy North Fulton
REFRESH-INTERVAL;VALUE=DURATION:PT1H
X-Robots-Tag:noindex
X-PUBLISHED-TTL:PT1H
BEGIN:VTIMEZONE
TZID:America/New_York
BEGIN:DAYLIGHT
TZOFFSETFROM:-0500
TZOFFSETTO:-0400
TZNAME:EDT
DTSTART:20220313T070000
END:DAYLIGHT
BEGIN:STANDARD
TZOFFSETFROM:-0400
TZOFFSETTO:-0500
TZNAME:EST
DTSTART:20221106T060000
END:STANDARD
BEGIN:DAYLIGHT
TZOFFSETFROM:-0500
TZOFFSETTO:-0400
TZNAME:EDT
DTSTART:20230312T070000
END:DAYLIGHT
BEGIN:STANDARD
TZOFFSETFROM:-0400
TZOFFSETTO:-0500
TZNAME:EST
DTSTART:20231105T060000
END:STANDARD
BEGIN:DAYLIGHT
TZOFFSETFROM:-0500
TZOFFSETTO:-0400
TZNAME:EDT
DTSTART:20240310T070000
END:DAYLIGHT
BEGIN:STANDARD
TZOFFSETFROM:-0400
TZOFFSETTO:-0500
TZNAME:EST
DTSTART:20241103T060000
END:STANDARD
BEGIN:DAYLIGHT
TZOFFSETFROM:-0500
TZOFFSETTO:-0400
TZNAME:EDT
DTSTART:20250309T070000
END:DAYLIGHT
BEGIN:STANDARD
TZOFFSETFROM:-0400
TZOFFSETTO:-0500
TZNAME:EST
DTSTART:20251102T060000
END:STANDARD
END:VTIMEZONE
BEGIN:VEVENT
DTSTART;TZID=America/New_York:20240613T080000
DTEND;TZID=America/New_York:20240613T083000
DTSTAMP:20260423T225651
CREATED:20240613T023013Z
LAST-MODIFIED:20240613T023415Z
UID:10001131-1718265600-1718267400@amanaacademy.org
SUMMARY:Specially Called Emergency Amana Board Meeting(Hybrid)
DESCRIPTION:Join with Google Meet: meet.google.com/emq-qxdt-ika
URL:https://amanaacademy.org/north-fulton/event/specially-called-emergency-amana-board-meetinghybrid/
LOCATION:285 S Main St\, Alpharetta\, GA 30009\, USA
END:VEVENT
BEGIN:VEVENT
DTSTART;VALUE=DATE:20240316
DTEND;VALUE=DATE:20240317
DTSTAMP:20260423T225651
CREATED:20230802T000124Z
LAST-MODIFIED:20240315T234257Z
UID:10000947-1710547200-1710633599@amanaacademy.org
SUMMARY:Changemaker Fair
DESCRIPTION:
URL:https://amanaacademy.org/north-fulton/event/passion-fair-changemaker-fair/
LOCATION:285 S Main St\, Alpharetta\, GA 30009\, USA
END:VEVENT
BEGIN:VEVENT
DTSTART;TZID=America/New_York:20230715T080000
DTEND;TZID=America/New_York:20230715T140000
DTSTAMP:20260423T225651
CREATED:20230511T154623Z
LAST-MODIFIED:20230715T171613Z
UID:10000882-1689408000-1689429600@amanaacademy.org
SUMMARY:Amana Academy Summer Volunteer Day
DESCRIPTION:8am staff arrival time! I’ll bring coffee and donuts! \nOfficial event time is 9am – 1pm. \nPlease wear an Amana shirt\, if possible.
URL:https://amanaacademy.org/north-fulton/event/amana-academy-summer-volunteer-day/
LOCATION:285 S Main St\, Alpharetta\, GA 30009\, USA
ORGANIZER;CN="sbuckley@amanaacademy.org":MAILTO:sbuckley@amanaacademy.org
END:VEVENT
BEGIN:VEVENT
DTSTART;TZID=America/New_York:20230106T090000
DTEND;TZID=America/New_York:20230106T100000
DTSTAMP:20260423T225651
CREATED:20221215T174611Z
LAST-MODIFIED:20230106T144704Z
UID:10000821-1672995600-1672999200@amanaacademy.org
SUMMARY:School Tour
DESCRIPTION:Register via Eventbrite\, here: https://www.eventbrite.com/e/school-tour-tickets-441032729767
URL:https://amanaacademy.org/north-fulton/event/school-tour-29/
LOCATION:285 S Main St\, Alpharetta\, GA 30009\, USA
END:VEVENT
END:VCALENDAR