BEGIN:VCALENDAR
VERSION:2.0
PRODID:-//Amana Academy North Fulton - ECPv6.15.16//NONSGML v1.0//EN
CALSCALE:GREGORIAN
METHOD:PUBLISH
X-ORIGINAL-URL:https://amanaacademy.org/north-fulton
X-WR-CALDESC:Events for Amana Academy North Fulton
REFRESH-INTERVAL;VALUE=DURATION:PT1H
X-Robots-Tag:noindex
X-PUBLISHED-TTL:PT1H
BEGIN:VTIMEZONE
TZID:America/New_York
BEGIN:DAYLIGHT
TZOFFSETFROM:-0500
TZOFFSETTO:-0400
TZNAME:EDT
DTSTART:20220313T070000
END:DAYLIGHT
BEGIN:STANDARD
TZOFFSETFROM:-0400
TZOFFSETTO:-0500
TZNAME:EST
DTSTART:20221106T060000
END:STANDARD
BEGIN:DAYLIGHT
TZOFFSETFROM:-0500
TZOFFSETTO:-0400
TZNAME:EDT
DTSTART:20230312T070000
END:DAYLIGHT
BEGIN:STANDARD
TZOFFSETFROM:-0400
TZOFFSETTO:-0500
TZNAME:EST
DTSTART:20231105T060000
END:STANDARD
BEGIN:DAYLIGHT
TZOFFSETFROM:-0500
TZOFFSETTO:-0400
TZNAME:EDT
DTSTART:20240310T070000
END:DAYLIGHT
BEGIN:STANDARD
TZOFFSETFROM:-0400
TZOFFSETTO:-0500
TZNAME:EST
DTSTART:20241103T060000
END:STANDARD
END:VTIMEZONE
BEGIN:VEVENT
DTSTART;TZID=America/New_York:20230803T080000
DTEND;TZID=America/New_York:20230803T120000
DTSTAMP:20260424T131752
CREATED:20230717T144611Z
LAST-MODIFIED:20230803T150132Z
UID:10000889-1691049600-1691064000@amanaacademy.org
SUMMARY:Base Camp for New Families entering 1st-8th
DESCRIPTION:
URL:https://amanaacademy.org/north-fulton/event/base-camp-for-new-families-entering-1st-8th/
END:VEVENT
BEGIN:VEVENT
DTSTART;TZID=America/New_York:20230803T123000
DTEND;TZID=America/New_York:20230803T140000
DTSTAMP:20260424T131752
CREATED:20230717T144611Z
LAST-MODIFIED:20230803T171643Z
UID:10000890-1691065800-1691071200@amanaacademy.org
SUMMARY:Kindergarten Orientation
DESCRIPTION:
URL:https://amanaacademy.org/north-fulton/event/kindergarten-orientation/
END:VEVENT
BEGIN:VEVENT
DTSTART;TZID=America/New_York:20230803T150000
DTEND;TZID=America/New_York:20230803T163000
DTSTAMP:20260424T131752
CREATED:20230717T144611Z
LAST-MODIFIED:20230803T191628Z
UID:10000891-1691074800-1691080200@amanaacademy.org
SUMMARY:Open House for Returning Families with Last Name A-M
DESCRIPTION:
URL:https://amanaacademy.org/north-fulton/event/open-house-for-returning-families-with-last-name-a-m/
END:VEVENT
BEGIN:VEVENT
DTSTART;TZID=America/New_York:20230803T170000
DTEND;TZID=America/New_York:20230803T183000
DTSTAMP:20260424T131752
CREATED:20230717T144611Z
LAST-MODIFIED:20230803T213117Z
UID:10000892-1691082000-1691087400@amanaacademy.org
SUMMARY:Open House for Returning Families with Last Name N-Z
DESCRIPTION:
URL:https://amanaacademy.org/north-fulton/event/open-house-for-returning-families-with-last-name-n-z/
END:VEVENT
BEGIN:VEVENT
DTSTART;VALUE=DATE:20230805
DTEND;VALUE=DATE:20230806
DTSTAMP:20260424T131752
CREATED:20230803T000133Z
LAST-MODIFIED:20230805T234628Z
UID:10000967-1691193600-1691279999@amanaacademy.org
SUMMARY:Back to School Picnic
DESCRIPTION:
URL:https://amanaacademy.org/north-fulton/event/back-to-school-picnic/
END:VEVENT
BEGIN:VEVENT
DTSTART;VALUE=DATE:20230807
DTEND;VALUE=DATE:20230808
DTSTAMP:20260424T131752
CREATED:20230802T000122Z
LAST-MODIFIED:20230807T233116Z
UID:10000897-1691366400-1691452799@amanaacademy.org
SUMMARY:First Day of School
DESCRIPTION:
URL:https://amanaacademy.org/north-fulton/event/first-day-of-school-3/
ORGANIZER;CN="jcredi@amanaacademy.org":MAILTO:jcredi@amanaacademy.org
END:VEVENT
BEGIN:VEVENT
DTSTART;VALUE=DATE:20230814
DTEND;VALUE=DATE:20230815
DTSTAMP:20260424T131752
CREATED:20230803T000133Z
LAST-MODIFIED:20230814T164623Z
UID:10000968-1691971200-1692057599@amanaacademy.org
SUMMARY:iReady Baseline Test
DESCRIPTION:
URL:https://amanaacademy.org/north-fulton/event/iready-baseline-test/
END:VEVENT
BEGIN:VEVENT
DTSTART;TZID=America/New_York:20230819T083000
DTEND;TZID=America/New_York:20230819T140000
DTSTAMP:20260424T131752
CREATED:20230707T153413Z
LAST-MODIFIED:20230819T093122Z
UID:10000888-1692433800-1692453600@amanaacademy.org
SUMMARY:Amana August Board Retreat
DESCRIPTION:Skillshot Media is next to the Lindbergh MARTA station. Access the building off Main St. NE (across from Tongue & Groove). Give yourself extra time to park. \nBoard members can access packets via their Amana user account here: https://drive.google.com/drive/folders/16UaYw4uwW6a6beljFSy0VKrAJFe7jOBt?usp=sharing \nWe will have donuts and coffee at 8:30 and promptly start the retreat at 9 am.
URL:https://amanaacademy.org/north-fulton/event/amana-august-board-retreat/
LOCATION:Location TBD
ORGANIZER;CN="Ehab Jaleel":MAILTO:ejaleel@amanaacademy.org
END:VEVENT
BEGIN:VEVENT
DTSTART;VALUE=DATE:20230825
DTEND;VALUE=DATE:20230826
DTSTAMP:20260424T131752
CREATED:20230803T000134Z
LAST-MODIFIED:20230825T234412Z
UID:10000969-1692921600-1693007999@amanaacademy.org
SUMMARY:New Parent Breakfast
DESCRIPTION:
URL:https://amanaacademy.org/north-fulton/event/new-parent-breakfast/
END:VEVENT
BEGIN:VEVENT
DTSTART;VALUE=DATE:20230825
DTEND;VALUE=DATE:20230826
DTSTAMP:20260424T131752
CREATED:20230803T000134Z
LAST-MODIFIED:20230825T234412Z
UID:10000970-1692921600-1693007999@amanaacademy.org
SUMMARY:Club Expo
DESCRIPTION:
URL:https://amanaacademy.org/north-fulton/event/club-expo/
END:VEVENT
BEGIN:VEVENT
DTSTART;TZID=America/New_York:20230825T133000
DTEND;TZID=America/New_York:20230825T153000
DTSTAMP:20260424T131752
CREATED:20230822T134635Z
LAST-MODIFIED:20230825T192850Z
UID:10000971-1692970200-1692977400@amanaacademy.org
SUMMARY:Club Expo
DESCRIPTION:
URL:https://amanaacademy.org/north-fulton/event/club-expo-2/
LOCATION:Amana Cafeteria
ORGANIZER;CN="jcredi@amanaacademy.org":MAILTO:jcredi@amanaacademy.org
END:VEVENT
END:VCALENDAR