BEGIN:VCALENDAR
VERSION:2.0
PRODID:-//Amana Academy North Fulton - ECPv6.15.16//NONSGML v1.0//EN
CALSCALE:GREGORIAN
METHOD:PUBLISH
X-ORIGINAL-URL:https://amanaacademy.org/north-fulton
X-WR-CALDESC:Events for Amana Academy North Fulton
REFRESH-INTERVAL;VALUE=DURATION:PT1H
X-Robots-Tag:noindex
X-PUBLISHED-TTL:PT1H
BEGIN:VTIMEZONE
TZID:America/New_York
BEGIN:DAYLIGHT
TZOFFSETFROM:-0500
TZOFFSETTO:-0400
TZNAME:EDT
DTSTART:20210314T070000
END:DAYLIGHT
BEGIN:STANDARD
TZOFFSETFROM:-0400
TZOFFSETTO:-0500
TZNAME:EST
DTSTART:20211107T060000
END:STANDARD
BEGIN:DAYLIGHT
TZOFFSETFROM:-0500
TZOFFSETTO:-0400
TZNAME:EDT
DTSTART:20220313T070000
END:DAYLIGHT
BEGIN:STANDARD
TZOFFSETFROM:-0400
TZOFFSETTO:-0500
TZNAME:EST
DTSTART:20221106T060000
END:STANDARD
BEGIN:DAYLIGHT
TZOFFSETFROM:-0500
TZOFFSETTO:-0400
TZNAME:EDT
DTSTART:20230312T070000
END:DAYLIGHT
BEGIN:STANDARD
TZOFFSETFROM:-0400
TZOFFSETTO:-0500
TZNAME:EST
DTSTART:20231105T060000
END:STANDARD
END:VTIMEZONE
BEGIN:VEVENT
DTSTART;TZID=America/New_York:20221104T090000
DTEND;TZID=America/New_York:20221104T100000
DTSTAMP:20260421T070736
CREATED:20221014T000259Z
LAST-MODIFIED:20221104T134725Z
UID:10000650-1667552400-1667556000@amanaacademy.org
SUMMARY:School Tour
DESCRIPTION:Register via eventbrite\, here: https://www.eventbrite.com/e/school-tour-tickets-441032729767
URL:https://amanaacademy.org/north-fulton/event/school-tour-25/
LOCATION:Amana Academy\, 285 S Main St\, Alpharetta\, GA 30009\, USA
END:VEVENT
BEGIN:VEVENT
DTSTART;TZID=America/New_York:20221111T090000
DTEND;TZID=America/New_York:20221111T100000
DTSTAMP:20260421T070736
CREATED:20221014T000259Z
LAST-MODIFIED:20221111T135038Z
UID:10000652-1668157200-1668160800@amanaacademy.org
SUMMARY:School Tour
DESCRIPTION:Register via eventbrite\, here: https://www.eventbrite.com/e/school-tour-tickets-441032729767
URL:https://amanaacademy.org/north-fulton/event/school-tour-26/
LOCATION:Amana Academy\, 285 S Main St\, Alpharetta\, GA 30009\, USA
END:VEVENT
BEGIN:VEVENT
DTSTART;TZID=America/New_York:20221117T160000
DTEND;TZID=America/New_York:20221117T180000
DTSTAMP:20260421T070736
CREATED:20221114T144650Z
LAST-MODIFIED:20221117T154630Z
UID:10000658-1668700800-1668708000@amanaacademy.org
SUMMARY:Science & Tech Fair
DESCRIPTION:
URL:https://amanaacademy.org/north-fulton/event/science-tech-fair-2/
END:VEVENT
BEGIN:VEVENT
DTSTART;TZID=America/New_York:20221117T160000
DTEND;TZID=America/New_York:20221117T180000
DTSTAMP:20260421T070736
CREATED:20221115T023359Z
LAST-MODIFIED:20221117T154630Z
UID:10000661-1668700800-1668708000@amanaacademy.org
SUMMARY:Sci/Tech Fair Judging
DESCRIPTION:Join with Google Meet: https://meet.google.com/hub-mbxm-xte\nOr dial: (US) +1 435-709-2448 PIN: 490313833#\nLearn more about Meet at: https://support.google.com/a/users/answer/9282720
URL:https://amanaacademy.org/north-fulton/event/sci-tech-fair-judging/
ORGANIZER;CN="Niki Fox":MAILTO:nfox@amanaacademy.org
END:VEVENT
BEGIN:VEVENT
DTSTART;TZID=America/New_York:20221118T073000
DTEND;TZID=America/New_York:20221118T090000
DTSTAMP:20260421T070736
CREATED:20221114T144650Z
LAST-MODIFIED:20221118T134812Z
UID:10000659-1668756600-1668762000@amanaacademy.org
SUMMARY:Grandparents & Special Friends Day
DESCRIPTION:
URL:https://amanaacademy.org/north-fulton/event/grandparents-special-friends-day/
END:VEVENT
BEGIN:VEVENT
DTSTART;TZID=America/New_York:20221118T110000
DTEND;TZID=America/New_York:20221118T123000
DTSTAMP:20260421T070736
CREATED:20221114T144650Z
LAST-MODIFIED:20221118T154948Z
UID:10000660-1668769200-1668774600@amanaacademy.org
SUMMARY:Turkey Trot
DESCRIPTION:
URL:https://amanaacademy.org/north-fulton/event/turkey-trot/
END:VEVENT
BEGIN:VEVENT
DTSTART;VALUE=DATE:20221121
DTEND;VALUE=DATE:20221126
DTSTAMP:20260421T070736
CREATED:20220801T163140Z
LAST-MODIFIED:20221125T160730Z
UID:10000628-1668988800-1669420799@amanaacademy.org
SUMMARY:Thanksgiving Break
DESCRIPTION:
URL:https://amanaacademy.org/north-fulton/event/thanksgiving-break/
END:VEVENT
END:VCALENDAR