BEGIN:VCALENDAR
VERSION:2.0
PRODID:-//Amana Academy North Fulton - ECPv6.15.16//NONSGML v1.0//EN
CALSCALE:GREGORIAN
METHOD:PUBLISH
X-WR-CALNAME:Amana Academy North Fulton
X-ORIGINAL-URL:https://amanaacademy.org/north-fulton
X-WR-CALDESC:Events for Amana Academy North Fulton
REFRESH-INTERVAL;VALUE=DURATION:PT1H
X-Robots-Tag:noindex
X-PUBLISHED-TTL:PT1H
BEGIN:VTIMEZONE
TZID:America/New_York
BEGIN:DAYLIGHT
TZOFFSETFROM:-0500
TZOFFSETTO:-0400
TZNAME:EDT
DTSTART:20210314T070000
END:DAYLIGHT
BEGIN:STANDARD
TZOFFSETFROM:-0400
TZOFFSETTO:-0500
TZNAME:EST
DTSTART:20211107T060000
END:STANDARD
BEGIN:DAYLIGHT
TZOFFSETFROM:-0500
TZOFFSETTO:-0400
TZNAME:EDT
DTSTART:20220313T070000
END:DAYLIGHT
BEGIN:STANDARD
TZOFFSETFROM:-0400
TZOFFSETTO:-0500
TZNAME:EST
DTSTART:20221106T060000
END:STANDARD
BEGIN:DAYLIGHT
TZOFFSETFROM:-0500
TZOFFSETTO:-0400
TZNAME:EDT
DTSTART:20230312T070000
END:DAYLIGHT
BEGIN:STANDARD
TZOFFSETFROM:-0400
TZOFFSETTO:-0500
TZNAME:EST
DTSTART:20231105T060000
END:STANDARD
END:VTIMEZONE
BEGIN:VEVENT
DTSTART;VALUE=DATE:20221021
DTEND;VALUE=DATE:20221022
DTSTAMP:20260422T014036
CREATED:20220801T163140Z
LAST-MODIFIED:20221021T225535Z
UID:10000627-1666310400-1666396799@amanaacademy.org
SUMMARY:Asynchronous Learning Day
DESCRIPTION:
URL:https://amanaacademy.org/north-fulton/event/asynchronous-learning-day-6/
END:VEVENT
BEGIN:VEVENT
DTSTART;TZID=America/New_York:20221027T173000
DTEND;TZID=America/New_York:20221027T190000
DTSTAMP:20260422T014036
CREATED:20221009T000209Z
LAST-MODIFIED:20221027T224927Z
UID:10000646-1666891800-1666897200@amanaacademy.org
SUMMARY:Amana Oct Board Meeting
DESCRIPTION:Two options for anyone to participate:\n    * In person at the Amana Fulton campus (285 S Main St\, Alpharetta\, Georgia 30009 (https://goo.gl/maps/yVERfZUruf7GEKZZ8)) in the Lobby Conference Room\, or\n    * Watch live via Zoom–see details below\nBoard members can access board packets here (https://drive.google.com/drive/folders/17w5miyk75g_w5e0qgOxYjZIyLqWjny4A?usp=sharing) via their Amana user account.\n──────────\nJoin Zoom Meeting\nhttps://amanaacademy-org.zoom.us/j/83400828939\nMeeting ID: 834 0082 8939\nOne tap mobile\n+13092053325\,\,83400828939# US\n+13126266799\,\,83400828939# US (Chicago)\n──────────
URL:https://amanaacademy.org/north-fulton/event/amana-oct-board-meeting/
LOCATION:See location and participation details below\, https://amanaacademy-org.zoom.us/j/6786240989
ORGANIZER;CN="Ehab Jaleel":MAILTO:ejaleel@amanaacademy.org
END:VEVENT
BEGIN:VEVENT
DTSTART;TZID=America/New_York:20221028T090000
DTEND;TZID=America/New_York:20221028T100000
DTSTAMP:20260422T014036
CREATED:20221014T000259Z
LAST-MODIFIED:20221028T131827Z
UID:10000647-1666947600-1666951200@amanaacademy.org
SUMMARY:School Tour
DESCRIPTION:Register via eventbrite\, here: https://www.eventbrite.com/e/school-tour-tickets-441032729767
URL:https://amanaacademy.org/north-fulton/event/school-tour-24/
LOCATION:Amana Academy\, 285 S Main St\, Alpharetta\, GA 30009\, USA
END:VEVENT
END:VCALENDAR