BEGIN:VCALENDAR
VERSION:2.0
PRODID:-//Amana Academy North Fulton - ECPv6.15.16//NONSGML v1.0//EN
CALSCALE:GREGORIAN
METHOD:PUBLISH
X-WR-CALNAME:Amana Academy North Fulton
X-ORIGINAL-URL:https://amanaacademy.org/north-fulton
X-WR-CALDESC:Events for Amana Academy North Fulton
REFRESH-INTERVAL;VALUE=DURATION:PT1H
X-Robots-Tag:noindex
X-PUBLISHED-TTL:PT1H
BEGIN:VTIMEZONE
TZID:America/New_York
BEGIN:DAYLIGHT
TZOFFSETFROM:-0500
TZOFFSETTO:-0400
TZNAME:EDT
DTSTART:20210314T070000
END:DAYLIGHT
BEGIN:STANDARD
TZOFFSETFROM:-0400
TZOFFSETTO:-0500
TZNAME:EST
DTSTART:20211107T060000
END:STANDARD
BEGIN:DAYLIGHT
TZOFFSETFROM:-0500
TZOFFSETTO:-0400
TZNAME:EDT
DTSTART:20220313T070000
END:DAYLIGHT
BEGIN:STANDARD
TZOFFSETFROM:-0400
TZOFFSETTO:-0500
TZNAME:EST
DTSTART:20221106T060000
END:STANDARD
BEGIN:DAYLIGHT
TZOFFSETFROM:-0500
TZOFFSETTO:-0400
TZNAME:EDT
DTSTART:20230312T070000
END:DAYLIGHT
BEGIN:STANDARD
TZOFFSETFROM:-0400
TZOFFSETTO:-0500
TZNAME:EST
DTSTART:20231105T060000
END:STANDARD
END:VTIMEZONE
BEGIN:VEVENT
DTSTART;VALUE=DATE:20220506
DTEND;VALUE=DATE:20220507
DTSTAMP:20260422T063358
CREATED:20210924T192241Z
LAST-MODIFIED:20220506T233203Z
UID:10000588-1651795200-1651881599@amanaacademy.org
SUMMARY:Asynchronous Learning Day
DESCRIPTION:
URL:https://amanaacademy.org/north-fulton/event/asynchronous-learning-day-5/
END:VEVENT
BEGIN:VEVENT
DTSTART;TZID=America/New_York:20220506T090000
DTEND;TZID=America/New_York:20220506T100000
DTSTAMP:20260422T063358
CREATED:20220321T143410Z
LAST-MODIFIED:20220506T134722Z
UID:10000609-1651827600-1651831200@amanaacademy.org
SUMMARY:School Tour
DESCRIPTION:Please register for tours via Eventbrite: https://www.eventbrite.com/e/amana-academy-school-tour-tickets-208118697627
URL:https://amanaacademy.org/north-fulton/event/school-tour-22/
LOCATION:Amana Academy\, 285 S Main St\, Alpharetta\, GA 30009\, USA
END:VEVENT
BEGIN:VEVENT
DTSTART;TZID=America/New_York:20220510T173000
DTEND;TZID=America/New_York:20220510T183000
DTSTAMP:20260422T063358
CREATED:20220509T185605Z
LAST-MODIFIED:20220510T221740Z
UID:10000610-1652203800-1652207400@amanaacademy.org
SUMMARY:National Junior Honor Society Induction Ceremony
DESCRIPTION:
URL:https://amanaacademy.org/north-fulton/event/national-junior-honor-society-induction-ceremony/
LOCATION:Amana Academy\, 285 S Main St\, Alpharetta\, GA 30009\, USA
END:VEVENT
BEGIN:VEVENT
DTSTART;TZID=America/New_York:20220512T154500
DTEND;TZID=America/New_York:20220512T200000
DTSTAMP:20260422T063358
CREATED:20220509T185605Z
LAST-MODIFIED:20220512T230142Z
UID:10000612-1652370300-1652385600@amanaacademy.org
SUMMARY:SkyZone Family Fun Night
DESCRIPTION:
URL:https://amanaacademy.org/north-fulton/event/skyzone-family-fun-night/
LOCATION:Sky Zone Trampoline Park\, 1425 Market Blvd Ste 100-A\, Roswell\, GA 30076\, USA
END:VEVENT
BEGIN:VEVENT
DTSTART;VALUE=DATE:20220513
DTEND;VALUE=DATE:20220514
DTSTAMP:20260422T063358
CREATED:20220509T185605Z
LAST-MODIFIED:20220513T233119Z
UID:10000611-1652400000-1652486399@amanaacademy.org
SUMMARY:Kindergarten Celebrations of Learning
DESCRIPTION:Refer to email from your child’s teacher for specific times.
URL:https://amanaacademy.org/north-fulton/event/kindergarten-celebrations-of-learning/
END:VEVENT
BEGIN:VEVENT
DTSTART;TZID=America/New_York:20220514T090000
DTEND;TZID=America/New_York:20220514T130000
DTSTAMP:20260422T063358
CREATED:20220509T185605Z
LAST-MODIFIED:20220514T162043Z
UID:10000613-1652518800-1652533200@amanaacademy.org
SUMMARY:Hands-on Amana Volunteer Day
DESCRIPTION:
URL:https://amanaacademy.org/north-fulton/event/hands-on-amana-volunteer-day/
LOCATION:Amana Academy\, 285 S Main St\, Alpharetta\, GA 30009\, USA
END:VEVENT
BEGIN:VEVENT
DTSTART;VALUE=DATE:20220516
DTEND;VALUE=DATE:20220517
DTSTAMP:20260422T063358
CREATED:20220509T185605Z
LAST-MODIFIED:20220516T233402Z
UID:10000614-1652659200-1652745599@amanaacademy.org
SUMMARY:3rd Grade Celebrations of Learning
DESCRIPTION:Refer to email from your child’s teacher for specific times.
URL:https://amanaacademy.org/north-fulton/event/3rd-grade-celebrations-of-learning/
END:VEVENT
BEGIN:VEVENT
DTSTART;VALUE=DATE:20220517
DTEND;VALUE=DATE:20220518
DTSTAMP:20260422T063358
CREATED:20220509T185605Z
LAST-MODIFIED:20220517T230136Z
UID:10000615-1652745600-1652831999@amanaacademy.org
SUMMARY:2nd Grade Celebrations of Learning
DESCRIPTION:Refer to email from your child’s teacher for specific times.
URL:https://amanaacademy.org/north-fulton/event/2nd-grade-celebrations-of-learning/
END:VEVENT
BEGIN:VEVENT
DTSTART;VALUE=DATE:20220517
DTEND;VALUE=DATE:20220518
DTSTAMP:20260422T063358
CREATED:20220509T185605Z
LAST-MODIFIED:20220517T230136Z
UID:10000476-1652745600-1652831999@amanaacademy.org
SUMMARY:8th Grade Celebrations of Learning
DESCRIPTION:Refer to email from your child’s teacher for specific times.
URL:https://amanaacademy.org/north-fulton/event/8th-grade-celebrations-of-learning/
END:VEVENT
BEGIN:VEVENT
DTSTART;VALUE=DATE:20220518
DTEND;VALUE=DATE:20220519
DTSTAMP:20260422T063358
CREATED:20220509T185605Z
LAST-MODIFIED:20220518T233341Z
UID:10000477-1652832000-1652918399@amanaacademy.org
SUMMARY:1st Grade Celebrations of Learning
DESCRIPTION:Refer to email from your child’s teacher for specific times.
URL:https://amanaacademy.org/north-fulton/event/1st-grade-celebrations-of-learning/
END:VEVENT
BEGIN:VEVENT
DTSTART;VALUE=DATE:20220519
DTEND;VALUE=DATE:20220520
DTSTAMP:20260422T063358
CREATED:20220509T185605Z
LAST-MODIFIED:20220519T230123Z
UID:10000480-1652918400-1653004799@amanaacademy.org
SUMMARY:7th Grade Celebrations of Learning
DESCRIPTION:Refer to email from your child’s teacher for specific times.
URL:https://amanaacademy.org/north-fulton/event/7th-grade-celebrations-of-learning/
END:VEVENT
BEGIN:VEVENT
DTSTART;VALUE=DATE:20220519
DTEND;VALUE=DATE:20220520
DTSTAMP:20260422T063358
CREATED:20220509T185605Z
LAST-MODIFIED:20220519T230123Z
UID:10000482-1652918400-1653004799@amanaacademy.org
SUMMARY:4th Grade Celebrations of Learning
DESCRIPTION:Refer to email from your child’s teacher for specific times.
URL:https://amanaacademy.org/north-fulton/event/4th-grade-celebrations-of-learning/
END:VEVENT
BEGIN:VEVENT
DTSTART;TZID=America/New_York:20220519T180000
DTEND;TZID=America/New_York:20220519T193000
DTSTAMP:20260422T063358
CREATED:20220509T185605Z
LAST-MODIFIED:20220519T230123Z
UID:10000485-1652983200-1652988600@amanaacademy.org
SUMMARY:8th Grade Passages
DESCRIPTION:
URL:https://amanaacademy.org/north-fulton/event/8th-grade-passages-2/
END:VEVENT
BEGIN:VEVENT
DTSTART;VALUE=DATE:20220520
DTEND;VALUE=DATE:20220521
DTSTAMP:20260422T063358
CREATED:20220509T185605Z
LAST-MODIFIED:20220520T234621Z
UID:10000486-1653004800-1653091199@amanaacademy.org
SUMMARY:6th Grade Celebrations of Learning
DESCRIPTION:Refer to email from your child’s teacher for specific times.
URL:https://amanaacademy.org/north-fulton/event/6th-grade-celebrations-of-learning/
END:VEVENT
BEGIN:VEVENT
DTSTART;VALUE=DATE:20220523
DTEND;VALUE=DATE:20220524
DTSTAMP:20260422T063358
CREATED:20220509T185605Z
LAST-MODIFIED:20220523T231727Z
UID:10000489-1653264000-1653350399@amanaacademy.org
SUMMARY:Kindergarten Graduation
DESCRIPTION:
URL:https://amanaacademy.org/north-fulton/event/kindergarten-graduation-2/
END:VEVENT
BEGIN:VEVENT
DTSTART;TZID=America/New_York:20220524T180000
DTEND;TZID=America/New_York:20220524T191500
DTSTAMP:20260422T063358
CREATED:20220509T185605Z
LAST-MODIFIED:20220524T221707Z
UID:10000490-1653415200-1653419700@amanaacademy.org
SUMMARY:8th Grade Promotion Ceremony
DESCRIPTION:
URL:https://amanaacademy.org/north-fulton/event/8th-grade-promotion-ceremony/
LOCATION:Riverwood International Charter School\, 5900 Raider Dr\, Sandy Springs\, GA 30328\, USA
END:VEVENT
BEGIN:VEVENT
DTSTART;VALUE=DATE:20220525
DTEND;VALUE=DATE:20220526
DTSTAMP:20260422T063358
CREATED:20210722T124717Z
LAST-MODIFIED:20220525T230318Z
UID:10000571-1653436800-1653523199@amanaacademy.org
SUMMARY:Last Day of School
DESCRIPTION:
URL:https://amanaacademy.org/north-fulton/event/last-day-of-school-2/
END:VEVENT
BEGIN:VEVENT
DTSTART;TZID=America/New_York:20220525T100000
DTEND;TZID=America/New_York:20220525T110000
DTSTAMP:20260422T063358
CREATED:20220509T185605Z
LAST-MODIFIED:20220525T140124Z
UID:10000493-1653472800-1653476400@amanaacademy.org
SUMMARY:K-4 Community Circle
DESCRIPTION:
URL:https://amanaacademy.org/north-fulton/event/k-4-community-circle/
LOCATION:Alpharetta Community Center\, 175 Roswell St\, Alpharetta\, GA 30009\, USA
END:VEVENT
BEGIN:VEVENT
DTSTART;TZID=America/New_York:20220525T110000
DTEND;TZID=America/New_York:20220525T120000
DTSTAMP:20260422T063358
CREATED:20220509T185605Z
LAST-MODIFIED:20220525T150115Z
UID:10000494-1653476400-1653480000@amanaacademy.org
SUMMARY:5-8 Community Circle
DESCRIPTION:
URL:https://amanaacademy.org/north-fulton/event/community-circle/
LOCATION:Alpharetta Community Center\, 175 Roswell St\, Alpharetta\, GA 30009\, USA
END:VEVENT
BEGIN:VEVENT
DTSTART;VALUE=DATE:20220526
DTEND;VALUE=DATE:20220528
DTSTAMP:20260422T063358
CREATED:20210722T124716Z
LAST-MODIFIED:20220527T234648Z
UID:10000570-1653523200-1653695999@amanaacademy.org
SUMMARY:Teacher Post-Planning
DESCRIPTION:
URL:https://amanaacademy.org/north-fulton/event/teacher-post-planning/
END:VEVENT
BEGIN:VEVENT
DTSTART;TZID=America/New_York:20220526T080000
DTEND;TZID=America/New_York:20220526T093000
DTSTAMP:20260422T063358
CREATED:20210901T183115Z
LAST-MODIFIED:20220526T124614Z
UID:10000452-1653552000-1653557400@amanaacademy.org
SUMMARY:Amana Board Meeting
DESCRIPTION:People can attend in person at the Parent Center (suite 109) or watch live via Zoom–see details below. Board members can access Packets here via their Amana user account.────────── \nEhab Jaleel is inviting you to a scheduled Zoom meeting. \nJoin Zoom Meetinghttps://amanaacademy-org.zoom.us/j/6786240989 \nMeeting ID: 678 624 0989One tap mobile+13126266799\,\,6786240989# US (Chicago)+16465588656\,\,6786240989# US (New York) \nDial by your location        +1 312 626 6799 US (Chicago)        +1 646 558 8656 US (New York)        +1 301 715 8592 US (Washington DC)        +1 346 248 7799 US (Houston)        +1 669 900 9128 US (San Jose)        +1 253 215 8782 US (Tacoma)Meeting ID: 678 624 0989Find your local number: https://amanaacademy-org.zoom.us/u/keA3l4FylP \n──────────
URL:https://amanaacademy.org/north-fulton/event/amana-board-meeting-14/
LOCATION:Parent Center or\,\,\,\,\,\,\, https://amanaacademy-org.zoom.us/j/5116750424
ORGANIZER;CN="Ehab Jaleel":MAILTO:ejaleel@amanaacademy.org
END:VEVENT
BEGIN:VEVENT
DTSTART;VALUE=DATE:20220530
DTEND;VALUE=DATE:20220531
DTSTAMP:20260422T063358
CREATED:20210722T124717Z
LAST-MODIFIED:20220530T234847Z
UID:10000574-1653868800-1653955199@amanaacademy.org
SUMMARY:Memorial Day
DESCRIPTION:
URL:https://amanaacademy.org/north-fulton/event/memorial-day/
END:VEVENT
END:VCALENDAR